BEGIN:VCALENDAR
VERSION:2.0
PRODID:-//CMDE - ECPv6.15.20//NONSGML v1.0//EN
CALSCALE:GREGORIAN
METHOD:PUBLISH
X-WR-CALNAME:CMDE
X-ORIGINAL-URL:https://cmde.org
X-WR-CALDESC:Events for CMDE
REFRESH-INTERVAL;VALUE=DURATION:PT1H
X-Robots-Tag:noindex
X-PUBLISHED-TTL:PT1H
BEGIN:VTIMEZONE
TZID:America/New_York
BEGIN:DAYLIGHT
TZOFFSETFROM:-0500
TZOFFSETTO:-0400
TZNAME:EDT
DTSTART:20250309T070000
END:DAYLIGHT
BEGIN:STANDARD
TZOFFSETFROM:-0400
TZOFFSETTO:-0500
TZNAME:EST
DTSTART:20251102T060000
END:STANDARD
BEGIN:DAYLIGHT
TZOFFSETFROM:-0500
TZOFFSETTO:-0400
TZNAME:EDT
DTSTART:20260308T070000
END:DAYLIGHT
BEGIN:STANDARD
TZOFFSETFROM:-0400
TZOFFSETTO:-0500
TZNAME:EST
DTSTART:20261101T060000
END:STANDARD
BEGIN:DAYLIGHT
TZOFFSETFROM:-0500
TZOFFSETTO:-0400
TZNAME:EDT
DTSTART:20270314T070000
END:DAYLIGHT
BEGIN:STANDARD
TZOFFSETFROM:-0400
TZOFFSETTO:-0500
TZNAME:EST
DTSTART:20271107T060000
END:STANDARD
END:VTIMEZONE
BEGIN:VEVENT
DTSTART;VALUE=DATE:20260606
DTEND;VALUE=DATE:20260607
DTSTAMP:20260419T121412
CREATED:20260126T201435Z
LAST-MODIFIED:20260126T201435Z
UID:10035632-1780732800-1780765200@cmde.org
SUMMARY:Hackensack Moves Performance
DESCRIPTION:[vc_row][vc_column][vc_column_text]Performance by Hackensack Moves Dance Company[/vc_column_text][/vc_column][/vc_row][vc_row][vc_column width=”1/2″][vc_single_image image=”16044″ img_size=”full”][/vc_column][vc_column width=”1/2″][vc_row_inner content_placement=”middle”][vc_column_inner width=”1/2″][vc_single_image image=”15873″ img_size=”full”][/vc_column_inner][vc_column_inner width=”1/2″][vc_column_text]Supported by funding through the NJEDA’s A.R.T. – Phase II Grant Program.[/vc_column_text][/vc_column_inner][/vc_row_inner][/vc_column][/vc_row]
URL:https://cmde.org/event/hackensack-moves-performance/2026-06-06/
LOCATION:Hackensack Performing Arts Center\, 102 State St\, Hackensack\, NJ\, 07601\, United States
CATEGORIES:Special events
ATTACH;FMTTYPE=image/jpeg:https://cmde.org/wp-content/uploads/2026/01/hackensack-moves-performance.jpg
ORGANIZER;CN="CMDE":MAILTO:info@cmde.org
END:VEVENT
END:VCALENDAR