BEGIN:VCALENDAR
VERSION:2.0
PRODID:-//CMDE - ECPv6.15.20//NONSGML v1.0//EN
CALSCALE:GREGORIAN
METHOD:PUBLISH
X-WR-CALNAME:CMDE
X-ORIGINAL-URL:https://cmde.org
X-WR-CALDESC:Events for CMDE
REFRESH-INTERVAL;VALUE=DURATION:PT1H
X-Robots-Tag:noindex
X-PUBLISHED-TTL:PT1H
BEGIN:VTIMEZONE
TZID:America/New_York
BEGIN:DAYLIGHT
TZOFFSETFROM:-0500
TZOFFSETTO:-0400
TZNAME:EDT
DTSTART:20250309T070000
END:DAYLIGHT
BEGIN:STANDARD
TZOFFSETFROM:-0400
TZOFFSETTO:-0500
TZNAME:EST
DTSTART:20251102T060000
END:STANDARD
BEGIN:DAYLIGHT
TZOFFSETFROM:-0500
TZOFFSETTO:-0400
TZNAME:EDT
DTSTART:20260308T070000
END:DAYLIGHT
BEGIN:STANDARD
TZOFFSETFROM:-0400
TZOFFSETTO:-0500
TZNAME:EST
DTSTART:20261101T060000
END:STANDARD
BEGIN:DAYLIGHT
TZOFFSETFROM:-0500
TZOFFSETTO:-0400
TZNAME:EDT
DTSTART:20270314T070000
END:DAYLIGHT
BEGIN:STANDARD
TZOFFSETFROM:-0400
TZOFFSETTO:-0500
TZNAME:EST
DTSTART:20271107T060000
END:STANDARD
END:VTIMEZONE
BEGIN:VEVENT
DTSTART;TZID=America/New_York:20260317T100000
DTEND;TZID=America/New_York:20260317T110000
DTSTAMP:20260420T181908
CREATED:20260107T174524Z
LAST-MODIFIED:20260107T174524Z
UID:10034726-1773741600-1773745200@cmde.org
SUMMARY:Strive
DESCRIPTION:Moving Experience for Adults with Disabilities\nInstructors: Silinea and Allie\nIn person and ZOOM \nWelcome to our Moving Experience dance class\, specifically designed for adults with disabilities. This class offers a safe and inclusive space where individuals of all abilities can explore the joy of movement\, express themselves creatively\, and experience the transformative power of dance. \nIn our Moving Experience class\, we believe that dance is a universal language that knows no boundaries. Our experienced instructors are trained in adaptive dance techniques and have a deep understanding of the diverse needs and abilities of individuals with disabilities. We strive to create an environment that promotes confidence\, self-expression\, and personal growth for each participant.
URL:https://cmde.org/event/strive-2/2026-03-17/
LOCATION:CMDE\, 84 Euclid Ave\, Hackensack\, 07601\, United States
CATEGORIES:CMDE in person class
ATTACH;FMTTYPE=image/jpeg:https://cmde.org/wp-content/uploads/2025/01/strive.jpg
ORGANIZER;CN="CMDE":MAILTO:info@cmde.org
END:VEVENT
BEGIN:VEVENT
DTSTART;TZID=America/New_York:20260315T143000
DTEND;TZID=America/New_York:20260315T143000
DTSTAMP:20260420T181908
CREATED:20260309T195431Z
LAST-MODIFIED:20260313T163253Z
UID:10036177-1773585000-1773585000@cmde.org
SUMMARY:CHOREOGRAPHY BASICS
DESCRIPTION:[vc_row][vc_column][vc_column_text] \nPart of “UNDERSTANDING MOVEMENT” Workshops with Claire Porter\nFrom given prompts\, playfully generate movement phrases\, explore meter and phrasing\, and experiment with structures. Come away with the beginnings of a new dance. \nInstructor Claire Porter of Claire Porter / PORTABLES\, www.cportables.com\, is a writer\, dancer and choreographer who has performed in Scotland\, Germany\, Holland\, Latvia\, Korea and India and in the USA at The New Jersey Performing Arts Center\, The Joyce Theater\, Town Hall\, The American Dance Festival\, Lucille Ball Comedy Festival\, Jacob’s Pillow Dance Festival\, Florida Dance Festival\, The American College Dance Festival at the Kennedy Center\, among others. Porter performed in Mikhail Baryshnikov’s GALA and been in residence at his center in NYC. \nPorter has received commissions from universities across the country and from The American Dance Festival. A Guggenheim Fellow\, Porter has received National Endowment for the Arts Choreography Fellowships\, New Jersey State Council on the Arts Choreography Fellowships and Mid-Atlantic Choreography Fellowships. \nPorter teaches Movement Analysis\, Choreography\, and Improvisation at Montclair State University and Creativity as Practice at Fairleigh Dickenson University. She also teaches an enlivening DANCING WORKOUT at CMDE. Porter has an MA in Dance from Ohio State\, a BA in Mathematics\, and is a Laban Movement Analyst.[/vc_column_text][vc_btn title=”SIGN UP” style=”flat” shape=”square” color=”turquoise” link=”url:https%3A%2F%2Fclients.mindbodyonline.com%2Fclassic%2Fws%3Fstudioid%3D5747443%26stype%3D-7%26sTG%3D28%26sVT%3D33%26sView%3Dday%26sLoc%3D0|title:REGISTRATION%20LINK|target:_blank|rel:nofollow”][/vc_column][/vc_row][vc_row gap=”30″ content_placement=”middle”][vc_column width=”1/2″][vc_single_image image=”16044″ img_size=”full”][/vc_column][vc_column width=”1/2″][vc_row_inner content_placement=”middle”][vc_column_inner width=”1/2″][vc_single_image image=”15873″ img_size=”full”][/vc_column_inner][vc_column_inner width=”1/2″][vc_column_text]Supported by funding through the NJEDA’s A.R.T. – Phase II Grant Program.[/vc_column_text][/vc_column_inner][/vc_row_inner][/vc_column][/vc_row]
URL:https://cmde.org/event/choreography-basics/
LOCATION:CMDE\, 84 Euclid Ave\, Hackensack\, 07601\, United States
CATEGORIES:Special events
ATTACH;FMTTYPE=image/webp:https://cmde.org/wp-content/uploads/2026/03/clair-porter.webp
ORGANIZER;CN="CMDE":MAILTO:info@cmde.org
END:VEVENT
BEGIN:VEVENT
DTSTART;TZID=America/New_York:20260314T160000
DTEND;TZID=America/New_York:20260314T180000
DTSTAMP:20260420T181908
CREATED:20260126T191212Z
LAST-MODIFIED:20260303T144931Z
UID:10035626-1773504000-1773511200@cmde.org
SUMMARY:Studio Cameo
DESCRIPTION:[vc_row gap=”30″][vc_column width=”1/2″][vc_column_text] \nWe have some amazing dance pieces to share with you!\nJoin us for our in – studio CAMEO Show on Saturday\, March 14th at 4 PM. \nWe will be showcasing works in progress by the Hackensack Moves Dance Company\, participants in our Creative Aging project and more! \nTickets:\n\n$10 – adults\n$7 – children and people with disabilities\n\nQuestions:\nPHONE:\n+1 201 342 2989 \nEMAIL\ninfo@cmde.org\n[/vc_column_text][/vc_column][vc_column width=”1/2″ css=”.vc_custom_1772549309578{padding: 20px !important;background-color: #e8e8e8 !important;border: 1px solid #d3d3d3 !important;}”][vc_column_text] \nBuy Your Tickets Now\n[/vc_column_text]Please enable JavaScript in your browser to complete this form.Please enable JavaScript in your browser to complete this form.Select Tickets\n				\n					\n					\n				\n				\n				Adults - $10.00\n			\n				\n					\n					\n				\n				\n				Children & people with disabilities - $7.00\n			Adult Ticket Quantity *1234Children & People with Disabilities Ticket Quantity *1234Total Amount$0.00Name *FirstLastEmail *Phone Number *What is your zip code?  *This helps us understand where our audience is coming from. Order Tickets  [/vc_column][/vc_row][vc_row content_placement=”middle” css=”.vc_custom_1772549366459{margin-bottom: 60px !important;}”][vc_column width=”1/2″][vc_single_image image=”16044″ img_size=”full”][/vc_column][vc_column width=”1/2″][vc_row_inner content_placement=”middle”][vc_column_inner width=”1/2″][vc_gallery columns=”4″ images=”15873″ img_size=”full”][/vc_column_inner][vc_column_inner width=”1/2″][vc_column_text]Supported by funding through the NJEDA’s A.R.T. – Phase II Grant Program.[/vc_column_text][/vc_column_inner][/vc_row_inner][/vc_column][/vc_row]
URL:https://cmde.org/event/studio-cameo/
LOCATION:CMDE\, 84 Euclid Ave\, Hackensack\, 07601\, United States
CATEGORIES:Special events
ATTACH;FMTTYPE=image/jpeg:https://cmde.org/wp-content/uploads/2026/01/Cameo-Mar-14-event-image.jpg
ORGANIZER;CN="CMDE":MAILTO:info@cmde.org
END:VEVENT
BEGIN:VEVENT
DTSTART;TZID=America/New_York:20260307T180000
DTEND;TZID=America/New_York:20260307T193000
DTSTAMP:20260420T181908
CREATED:20260205T181247Z
LAST-MODIFIED:20260227T155225Z
UID:10035695-1772906400-1772911800@cmde.org
SUMMARY:West African Dance & Drum with Kamate Traders
DESCRIPTION:[vc_row][vc_column][vc_column_text]Performance & Workshop by Hackensack Moves Dance Company \n[/vc_column_text][vc_btn title=”REGISTER” style=”flat” color=”turquoise” link=”url:https%3A%2F%2Fclients.mindbodyonline.com%2Fclassic%2Fws%3Fstudioid%3D5747443%26stype%3D-7%26sTG%3D29%26sVT%3D31%26sView%3Dday%26sLoc%3D1%26sTrn%3D9%26date%3D02%2F21%2F26|title:REGISTRATION%20LINK%20|target:_blank|rel:nofollow”][/vc_column][/vc_row][vc_row content_placement=”middle”][vc_column width=”1/2″][vc_single_image image=”16044″ img_size=”full”][/vc_column][vc_column width=”1/2″][vc_row_inner content_placement=”middle”][vc_column_inner width=”1/2″][vc_single_image image=”15873″ img_size=”full”][/vc_column_inner][vc_column_inner width=”1/2″][vc_column_text]Supported by funding through the NJEDA’s A.R.T. – Phase II Grant Program.[/vc_column_text][/vc_column_inner][/vc_row_inner][/vc_column][/vc_row]
URL:https://cmde.org/event/west-african-dance-drum-with-kamate-traders/
LOCATION:CMDE\, 84 Euclid Ave\, Hackensack\, 07601\, United States
CATEGORIES:Special events
ATTACH;FMTTYPE=image/jpeg:https://cmde.org/wp-content/uploads/2026/02/West-African-Dance-Drum-with-Kamate-Traders.jpg
ORGANIZER;CN="CMDE":MAILTO:info@cmde.org
END:VEVENT
BEGIN:VEVENT
DTSTART;TZID=America/New_York:20260228T133000
DTEND;TZID=America/New_York:20260228T153000
DTSTAMP:20260420T181908
CREATED:20260126T190153Z
LAST-MODIFIED:20260209T210800Z
UID:10035625-1772285400-1772292600@cmde.org
SUMMARY:Singing Forever
DESCRIPTION:[vc_row][vc_column][vc_column_text] \nSenior Vocal workshop\nJoin us to engage in fun and safe vocal practices for vocal longevity (proper warm-ups\, reviewing the science\, singing\, etc.) While using singing as a tool to build confidence and support connections among participants. For seniors. Creative Aging Grant event.[/vc_column_text][vc_btn title=”REGISTER” style=”flat” shape=”square” color=”turquoise” link=”url:https%3A%2F%2Fclients.mindbodyonline.com%2Fclassic%2Fws%3Fstudioid%3D5747443%26stype%3D-7%26sTG%3D29%26sVT%3D30%26sView%3Dday%26sLoc%3D0%26date%3D02%2F28%2F26|title:REGISTRATION%20LINK%20FOR%20SINGING%20FOREVER|rel:nofollow”][/vc_column][/vc_row][vc_row][vc_column width=”1/4″][/vc_column][vc_column width=”1/2″][vc_single_image image=”16044″ img_size=”full”][/vc_column][vc_column width=”1/4″][/vc_column][/vc_row]
URL:https://cmde.org/event/singing-forever/
LOCATION:CMDE\, 84 Euclid Ave\, Hackensack\, 07601\, United States
CATEGORIES:Special events
ATTACH;FMTTYPE=image/jpeg:https://cmde.org/wp-content/uploads/2026/01/Singing-Forever-flyer.jpg
ORGANIZER;CN="CMDE":MAILTO:info@cmde.org
END:VEVENT
BEGIN:VEVENT
DTSTART;TZID=America/New_York:20260225T194500
DTEND;TZID=America/New_York:20260225T204500
DTSTAMP:20260420T181908
CREATED:20260107T175310Z
LAST-MODIFIED:20260304T224159Z
UID:10035001-1772048700-1772052300@cmde.org
SUMMARY:Bellydance for Body and Soul
DESCRIPTION:Bellydance for Body and Soul\nSisterhood and Dance.  \nFrom mothers and daughters to lifelong friends—our Wednesday night circle is open. Join Kanoélehua for an hour of Bellydance that strengthens the body\, heals the mind\, and delights the spirit! Experience your own true “Inner Grace” that only dance can reveal. \nOngoing Wednesdays:7:45 – 8:45 PM\nSuggested Donation:$20\nText: (551) 208-0330 to confirm\nQuestions: ljlopata@gmail.com \nI would love to see you there! \n(Plenty of space on the side for children to play\, if you would like to bring them. All are welcome!)
URL:https://cmde.org/event/ljs-body-soul/2026-02-25/
LOCATION:CMDE\, 84 Euclid Ave\, Hackensack\, 07601\, United States
CATEGORIES:Guest Classes
ATTACH;FMTTYPE=image/jpeg:https://cmde.org/wp-content/uploads/2026/01/d2de1d588cc8061aa7405bc998698b1c.jpeg
ORGANIZER;CN="LJLopata":MAILTO:ljlopata@gmail.com
END:VEVENT
BEGIN:VEVENT
DTSTART;TZID=America/New_York:20260222T160000
DTEND;TZID=America/New_York:20260222T170000
DTSTAMP:20260420T181908
CREATED:20260116T181315Z
LAST-MODIFIED:20260121T214126Z
UID:10035573-1771776000-1771779600@cmde.org
SUMMARY:Fueling Your Rhythm - a Nutrition Reset in 2026!
DESCRIPTION:[vc_row][vc_column][vc_column_text] \nAn empowering community nutrition experience!\nFueling Your Rhythm is an empowering community nutrition experience led by a Registered Dietitian who specializes in personalized nutrition and honors cultural food traditions. \n\nLearn how cultural foods support energy\nUnderstand your body’s response to food\nBuild balance without losing flavor\n\nThis is not a diet talk. \nIt is about understanding how your body responds to food\, supporting energy\, and building confidence around the foods that are part of your cultural heritage. \nThe event includes a live “Ask the RD” session where participants can ask nutrition curiosity questions in a supportive environment. \nBrought to you by empowerFit Wellness LLC and iNutrition Health LLC\, where nutrition\, self-care\, empowerment\, and whole-person wellness come together to support informed\, confident choices for everyday life. \nWant to learn more about these women-owned businesses supporting you and your community?  \nVisit www.empowerfitwellness.com and www.inutritionhealth.com \nIf these businesses are bringing you personal enrichment\, please feel free to share it with friends and family to help us continue to grow and learn together as a community.[/vc_column_text][vc_btn title=”REGISTER TO GET YOUR FREE SPOT” color=”turquoise” link=”url:https%3A%2F%2Finutritionhealth.practicebetter.io%2F%23%2F67f588e2636951b498e84008%2Fbookings%3Fc%3D696980da0a21536e91313520%26step%3Dcourse|title:REGISTRATION%20LINK|target:_blank|rel:nofollow”][/vc_column][/vc_row]
URL:https://cmde.org/event/fueling-your-rhythm-a-nutrition-reset-in-2026/
LOCATION:CMDE\, 84 Euclid Ave\, Hackensack\, 07601\, United States
CATEGORIES:Special events
ATTACH;FMTTYPE=image/jpeg:https://cmde.org/wp-content/uploads/2026/01/nutrition-program-cal.jpg
ORGANIZER;CN="CMDE":MAILTO:info@cmde.org
END:VEVENT
BEGIN:VEVENT
DTSTART;TZID=America/New_York:20260222T150000
DTEND;TZID=America/New_York:20260222T153000
DTSTAMP:20260420T181908
CREATED:20260222T163032Z
LAST-MODIFIED:20260222T163034Z
UID:10034445-1771772400-1771774200@cmde.org
SUMMARY:ZOOM: African Drumming
DESCRIPTION:Instructor: Yahaya \n In person & Zoom \nExperience the power and rhythm of traditional African drumming in this energizing 30-minute class with master drummer Yahaya. Learn foundational techniques\, polyrhythms\, and cultural rhythms while building coordination\, focus\, and musical connection. Open to all levels\, this class offers a dynamic and uplifting way to engage with African music\, movement\, and community. Perfect as a stand-alone session or as a complement to dance training.
URL:https://cmde.org/event/drumming-3-3/
LOCATION:CMDE\, 84 Euclid Ave\, Hackensack\, 07601\, United States
CATEGORIES:CMDE zoom class
ATTACH;FMTTYPE=image/jpeg:https://cmde.org/wp-content/uploads/2025/09/drumming.jpg
ORGANIZER;CN="CMDE":MAILTO:info@cmde.org
END:VEVENT
BEGIN:VEVENT
DTSTART;TZID=America/New_York:20260222T140000
DTEND;TZID=America/New_York:20260222T150000
DTSTAMP:20260420T181908
CREATED:20260222T162941Z
LAST-MODIFIED:20260222T162942Z
UID:10034184-1771768800-1771772400@cmde.org
SUMMARY:ZOOM! Multi-Generational African Dance
DESCRIPTION:[vc_row][vc_column][vc_column_text]Instructor: Yahaya \nAll Ages*\nIn person & Zoom \nCelebrate movement\, music\, and community in this joyful African Dance class designed for all ages! Families and individuals of every generation are invited to dance together\, learning traditional African steps\, rhythms\, and cultural stories. This upbeat class builds strength\, coordination\, and confidence while fostering connection between participants. Whether you come with kids\, parents\, grandparents\, or on your own\, you’ll leave energized\, smiling\, and inspired by the power of dance across generations. \n*Kids under 8 yrs may participate with a grown-up[/vc_column_text][vc_btn title=”Register” style=”flat” shape=”square” color=”turquoise” link=”url:%2Fregistration%2F”][/vc_column][/vc_row]
URL:https://cmde.org/event/multi-generational-african-dance-3/
LOCATION:CMDE\, 84 Euclid Ave\, Hackensack\, 07601\, United States
CATEGORIES:CMDE zoom class
ATTACH;FMTTYPE=image/jpeg:https://cmde.org/wp-content/uploads/2024/01/Dancing-Stories-LP.jpg
ORGANIZER;CN="CMDE":MAILTO:info@cmde.org
END:VEVENT
BEGIN:VEVENT
DTSTART;TZID=America/New_York:20260201T133000
DTEND;TZID=America/New_York:20260201T160000
DTSTAMP:20260420T181908
CREATED:20260116T200945Z
LAST-MODIFIED:20260123T231751Z
UID:10035574-1769952600-1769961600@cmde.org
SUMMARY:Auditions for the Hackensack Move Dance Company
DESCRIPTION:[vc_row][vc_column][vc_column_text]Adult dancers Ages 18 and up. \nCMDE is excited to announce auditions for the new Hackensack Moves Dance Company\, dedicated to celebrating movement\, culture\, our local community\, and storytelling through West African and Modern dance. This company brings together dancers of diverse backgrounds to create powerful\, expressive works rooted in tradition and contemporary movement. \nBe prepared to learn a short African and Modern choreography and present an original 16-32 count routine as part of your audition.[/vc_column_text][vc_btn title=”RESERVE YOUR FREE SPOT” style=”flat” shape=”square” color=”turquoise” link=”url:%2Fhackensack-moves-dance-company%2F|title:REGISTRATION%20LINK|rel:nofollow”][/vc_column][/vc_row][vc_row css=”.vc_custom_1769179167712{margin-bottom: 60px !important;padding-bottom: 40px !important;}”][vc_column width=”1/2″][vc_single_image image=”16044″ img_size=”full”][/vc_column][vc_column width=”1/2″][vc_row_inner content_placement=”middle”][vc_column_inner width=”1/2″][vc_single_image image=”15873″ img_size=”full”][/vc_column_inner][vc_column_inner width=”1/2″][vc_column_text]Supported by funding through the NJEDA’s A.R.T. – Phase II Grant Program.[/vc_column_text][/vc_column_inner][/vc_row_inner][/vc_column][/vc_row][vc_row][vc_column][vc_column_text] \n  \n[/vc_column_text][/vc_column][/vc_row]
URL:https://cmde.org/event/auditions-for-the-hackensack-move-dance-company/
LOCATION:CMDE\, 84 Euclid Ave\, Hackensack\, 07601\, United States
CATEGORIES:Special events
ATTACH;FMTTYPE=image/jpeg:https://cmde.org/wp-content/uploads/2026/01/auditions-for-the-Hackensack-Move.jpg
ORGANIZER;CN="CMDE":MAILTO:info@cmde.org
END:VEVENT
BEGIN:VEVENT
DTSTART;TZID=America/New_York:20260131T133000
DTEND;TZID=America/New_York:20260131T153000
DTSTAMP:20260420T181908
CREATED:20260126T181218Z
LAST-MODIFIED:20260126T181904Z
UID:10035623-1769866200-1769873400@cmde.org
SUMMARY:Dancing with Breath
DESCRIPTION:[vc_row][vc_column][vc_column_text]With Lateefah Fleming\nFor seniors\nJoin us to improve awareness and use of breath to support dance and movement.\nSponsored by New Jersey State Council on the Arts Creative Aging Initiative Grant[/vc_column_text][vc_btn title=”REGISTER” style=”flat” shape=”square” color=”turquoise” link=”url:https%3A%2F%2Fclients.mindbodyonline.com%2Fclassic%2Fws%3Fstudioid%3D5747443%26stype%3D-7%26sTG%3D29%26sVT%3D30%26sView%3Dday%26sLoc%3D1%26date%3D01%2F31%2F26|title:REGISTRATION%20LINK%20TO%20Dancing%20with%20Breath|target:_blank|rel:nofollow”][/vc_column][/vc_row][vc_row][vc_column width=”1/4″][/vc_column][vc_column width=”1/2″][vc_single_image image=”16044″ img_size=”full”][/vc_column][vc_column width=”1/4″][/vc_column][/vc_row]
URL:https://cmde.org/event/dancing-with-breath/
LOCATION:CMDE\, 84 Euclid Ave\, Hackensack\, 07601\, United States
CATEGORIES:CMDE in person class,Special events
ATTACH;FMTTYPE=image/jpeg:https://cmde.org/wp-content/uploads/2026/01/Dancing-with-breath.jpg
ORGANIZER;CN="CMDE":MAILTO:info@cmde.org
END:VEVENT
BEGIN:VEVENT
DTSTART;TZID=America/New_York:20260125T150000
DTEND;TZID=America/New_York:20260125T153000
DTSTAMP:20260420T181908
CREATED:20260121T214428Z
LAST-MODIFIED:20260121T214429Z
UID:10034441-1769353200-1769355000@cmde.org
SUMMARY:ZOOM ONLY: African Drumming
DESCRIPTION:Instructor: Yahaya \n In person & Zoom \nExperience the power and rhythm of traditional African drumming in this energizing 30-minute class with master drummer Yahaya. Learn foundational techniques\, polyrhythms\, and cultural rhythms while building coordination\, focus\, and musical connection. Open to all levels\, this class offers a dynamic and uplifting way to engage with African music\, movement\, and community. Perfect as a stand-alone session or as a complement to dance training.
URL:https://cmde.org/event/drumming-3-2/
LOCATION:CMDE\, 84 Euclid Ave\, Hackensack\, 07601\, United States
CATEGORIES:CMDE zoom class
ATTACH;FMTTYPE=image/jpeg:https://cmde.org/wp-content/uploads/2025/09/drumming.jpg
ORGANIZER;CN="CMDE":MAILTO:info@cmde.org
END:VEVENT
BEGIN:VEVENT
DTSTART;TZID=America/New_York:20260125T140000
DTEND;TZID=America/New_York:20260125T150000
DTSTAMP:20260420T181908
CREATED:20260121T214322Z
LAST-MODIFIED:20260121T214323Z
UID:10034180-1769349600-1769353200@cmde.org
SUMMARY:ZOOM ONLY: Multi-Generational African Dance
DESCRIPTION:[vc_row][vc_column][vc_column_text]Instructor: Yahaya \nAll Ages*\nIn person & Zoom \nCelebrate movement\, music\, and community in this joyful African Dance class designed for all ages! Families and individuals of every generation are invited to dance together\, learning traditional African steps\, rhythms\, and cultural stories. This upbeat class builds strength\, coordination\, and confidence while fostering connection between participants. Whether you come with kids\, parents\, grandparents\, or on your own\, you’ll leave energized\, smiling\, and inspired by the power of dance across generations. \n*Kids under 8 yrs may participate with a grown-up[/vc_column_text][vc_btn title=”Register” style=”flat” shape=”square” color=”turquoise” link=”url:%2Fregistration%2F”][/vc_column][/vc_row]
URL:https://cmde.org/event/multi-generational-african-dance-2/
LOCATION:CMDE\, 84 Euclid Ave\, Hackensack\, 07601\, United States
CATEGORIES:CMDE zoom class
ATTACH;FMTTYPE=image/jpeg:https://cmde.org/wp-content/uploads/2024/01/Dancing-Stories-LP.jpg
ORGANIZER;CN="CMDE":MAILTO:info@cmde.org
END:VEVENT
END:VCALENDAR