BEGIN:VCALENDAR
VERSION:2.0
PRODID:-//CMDE - ECPv6.15.20//NONSGML v1.0//EN
CALSCALE:GREGORIAN
METHOD:PUBLISH
X-WR-CALNAME:CMDE
X-ORIGINAL-URL:https://cmde.org
X-WR-CALDESC:Events for CMDE
REFRESH-INTERVAL;VALUE=DURATION:PT1H
X-Robots-Tag:noindex
X-PUBLISHED-TTL:PT1H
BEGIN:VTIMEZONE
TZID:America/New_York
BEGIN:DAYLIGHT
TZOFFSETFROM:-0500
TZOFFSETTO:-0400
TZNAME:EDT
DTSTART:20250309T070000
END:DAYLIGHT
BEGIN:STANDARD
TZOFFSETFROM:-0400
TZOFFSETTO:-0500
TZNAME:EST
DTSTART:20251102T060000
END:STANDARD
BEGIN:DAYLIGHT
TZOFFSETFROM:-0500
TZOFFSETTO:-0400
TZNAME:EDT
DTSTART:20260308T070000
END:DAYLIGHT
BEGIN:STANDARD
TZOFFSETFROM:-0400
TZOFFSETTO:-0500
TZNAME:EST
DTSTART:20261101T060000
END:STANDARD
BEGIN:DAYLIGHT
TZOFFSETFROM:-0500
TZOFFSETTO:-0400
TZNAME:EDT
DTSTART:20270314T070000
END:DAYLIGHT
BEGIN:STANDARD
TZOFFSETFROM:-0400
TZOFFSETTO:-0500
TZNAME:EST
DTSTART:20271107T060000
END:STANDARD
END:VTIMEZONE
BEGIN:VEVENT
DTSTART;TZID=America/New_York:20261122T140000
DTEND;TZID=America/New_York:20261122T150000
DTSTAMP:20260422T060202
CREATED:20250913T182738Z
LAST-MODIFIED:20260330T005705Z
UID:10034223-1795356000-1795359600@cmde.org
SUMMARY:Multi-Generational African Dance
DESCRIPTION:[vc_row][vc_column][vc_column_text]Instructor: Yahaya \nAll Ages*\nIn person & Zoom \nCelebrate movement\, music\, and community in this joyful African Dance class designed for all ages! Families and individuals of every generation are invited to dance together\, learning traditional African steps\, rhythms\, and cultural stories. This upbeat class builds strength\, coordination\, and confidence while fostering connection between participants. Whether you come with kids\, parents\, grandparents\, or on your own\, you’ll leave energized\, smiling\, and inspired by the power of dance across generations. \n*Kids under 8 yrs may participate with a grown-up[/vc_column_text][vc_btn title=”Register” style=”flat” shape=”square” color=”turquoise” link=”url:%2Fregistration%2F”][/vc_column][/vc_row]
URL:https://cmde.org/event/multi-generational-african-dance/2026-11-22/
LOCATION:CMDE\, 84 Euclid Ave\, Hackensack\, 07601\, United States
CATEGORIES:CMDE in person class
ATTACH;FMTTYPE=image/jpeg:https://cmde.org/wp-content/uploads/2024/01/Dancing-Stories-LP.jpg
ORGANIZER;CN="CMDE":MAILTO:info@cmde.org
END:VEVENT
BEGIN:VEVENT
DTSTART;TZID=America/New_York:20261122T150000
DTEND;TZID=America/New_York:20261122T153000
DTSTAMP:20260422T060202
CREATED:20250913T183242Z
LAST-MODIFIED:20260330T005804Z
UID:10034484-1795359600-1795361400@cmde.org
SUMMARY:African Drumming
DESCRIPTION:Instructor: Yahaya \n In person & Zoom \nExperience the power and rhythm of traditional African drumming in this energizing 30-minute class with master drummer Yahaya. Learn foundational techniques\, polyrhythms\, and cultural rhythms while building coordination\, focus\, and musical connection. Open to all levels\, this class offers a dynamic and uplifting way to engage with African music\, movement\, and community. Perfect as a stand-alone session or as a complement to dance training.
URL:https://cmde.org/event/drumming-3/2026-11-22/
LOCATION:CMDE\, 84 Euclid Ave\, Hackensack\, 07601\, United States
CATEGORIES:CMDE in person class
ATTACH;FMTTYPE=image/jpeg:https://cmde.org/wp-content/uploads/2025/09/drumming.jpg
ORGANIZER;CN="CMDE":MAILTO:info@cmde.org
END:VEVENT
BEGIN:VEVENT
DTSTART;TZID=America/New_York:20261123T110000
DTEND;TZID=America/New_York:20261123T140000
DTSTAMP:20260422T060202
CREATED:20240510T215440Z
LAST-MODIFIED:20240510T221122Z
UID:10018401-1795431600-1795442400@cmde.org
SUMMARY:Call Us Clowns
DESCRIPTION:Call Us Clowns are an award-winning troupe of Caring/Therapeutic clowns who volunteer their time and talent.  They perform as individuals and in show groups\, assuring a high level of quality through professional training\, rehearsals\, and continuing clown education. \nContact: info@CallUsClowns.org
URL:https://cmde.org/event/call-us-clowns/2026-11-23/
LOCATION:CMDE\, 84 Euclid Ave\, Hackensack\, 07601\, United States
CATEGORIES:Guest Classes
ATTACH;FMTTYPE=image/jpeg:https://cmde.org/wp-content/uploads/2024/05/Call-us-Clowns-caring.jpg
END:VEVENT
BEGIN:VEVENT
DTSTART;TZID=America/New_York:20261123T173000
DTEND;TZID=America/New_York:20261123T213000
DTSTAMP:20260422T060202
CREATED:20250815T175943Z
LAST-MODIFIED:20250815T175944Z
UID:10028272-1795455000-1795469400@cmde.org
SUMMARY:Simply Social Dance
DESCRIPTION:Students are taught specific dance steps\, and have a chance to practice these steps with other students. \nIntermediate students inspire new students and helps them to learn more quickly. \nStudents learn the fundamentals of a dance: step patterns\, rhythm\, lead & follow\, and good technique.
URL:https://cmde.org/event/simply-social-dance-2/2026-11-23/
LOCATION:CMDE\, 84 Euclid Ave\, Hackensack\, 07601\, United States
CATEGORIES:Guest Classes
ATTACH;FMTTYPE=image/webp:https://cmde.org/wp-content/uploads/2023/06/rsw_400cg_true.webp
ORGANIZER;CN="Lisa Skates":MAILTO:info@simplysocialdancing.com
END:VEVENT
BEGIN:VEVENT
DTSTART;TZID=America/New_York:20261123T180000
DTEND;TZID=America/New_York:20261123T204500
DTSTAMP:20260422T060202
CREATED:20250815T180238Z
LAST-MODIFIED:20250815T180239Z
UID:10026240-1795456800-1795466700@cmde.org
SUMMARY:Salsa! with Pina
DESCRIPTION:Please contact:\n201-707-0999\ngloriasparrots@gmail.com
URL:https://cmde.org/event/salsa-2-2-2/2026-11-23/
LOCATION:CMDE\, 84 Euclid Ave\, Hackensack\, 07601\, United States
CATEGORIES:Guest Classes
END:VEVENT
BEGIN:VEVENT
DTSTART;TZID=America/New_York:20261201T100000
DTEND;TZID=America/New_York:20261201T110000
DTSTAMP:20260422T060202
CREATED:20260107T174153Z
LAST-MODIFIED:20260107T174218Z
UID:10034717-1796119200-1796122800@cmde.org
SUMMARY:Strive
DESCRIPTION:Moving Experience for Adults with Disabilities\nInstructors: Silinea and Allie\nIn person and ZOOM \nWelcome to our Moving Experience dance class\, specifically designed for adults with disabilities. This class offers a safe and inclusive space where individuals of all abilities can explore the joy of movement\, express themselves creatively\, and experience the transformative power of dance. \nIn our Moving Experience class\, we believe that dance is a universal language that knows no boundaries. Our experienced instructors are trained in adaptive dance techniques and have a deep understanding of the diverse needs and abilities of individuals with disabilities. We strive to create an environment that promotes confidence\, self-expression\, and personal growth for each participant.
URL:https://cmde.org/event/strive/2026-12-01/
LOCATION:CMDE\, 84 Euclid Ave\, Hackensack\, 07601\, United States
CATEGORIES:CMDE in person class
ATTACH;FMTTYPE=image/jpeg:https://cmde.org/wp-content/uploads/2025/01/strive.jpg
ORGANIZER;CN="CMDE":MAILTO:info@cmde.org
END:VEVENT
BEGIN:VEVENT
DTSTART;TZID=America/New_York:20261212T160000
DTEND;TZID=America/New_York:20261212T180000
DTSTAMP:20260422T060202
CREATED:20260126T212253Z
LAST-MODIFIED:20260126T212253Z
UID:10035644-1797091200-1797098400@cmde.org
SUMMARY:CMDE Cameo
DESCRIPTION:Featuring Faculty Spotlight
URL:https://cmde.org/event/cmde-cameo/
LOCATION:CMDE\, 84 Euclid Ave\, Hackensack\, 07601\, United States
CATEGORIES:Special events
ATTACH;FMTTYPE=image/jpeg:https://cmde.org/wp-content/uploads/2026/01/ready-to-connect.jpg
ORGANIZER;CN="CMDE":MAILTO:info@cmde.org
END:VEVENT
END:VCALENDAR