BEGIN:VCALENDAR
VERSION:2.0
PRODID:-//CMDE - ECPv6.15.20//NONSGML v1.0//EN
CALSCALE:GREGORIAN
METHOD:PUBLISH
X-WR-CALNAME:CMDE
X-ORIGINAL-URL:https://cmde.org
X-WR-CALDESC:Events for CMDE
REFRESH-INTERVAL;VALUE=DURATION:PT1H
X-Robots-Tag:noindex
X-PUBLISHED-TTL:PT1H
BEGIN:VTIMEZONE
TZID:America/New_York
BEGIN:DAYLIGHT
TZOFFSETFROM:-0500
TZOFFSETTO:-0400
TZNAME:EDT
DTSTART:20250309T070000
END:DAYLIGHT
BEGIN:STANDARD
TZOFFSETFROM:-0400
TZOFFSETTO:-0500
TZNAME:EST
DTSTART:20251102T060000
END:STANDARD
BEGIN:DAYLIGHT
TZOFFSETFROM:-0500
TZOFFSETTO:-0400
TZNAME:EDT
DTSTART:20260308T070000
END:DAYLIGHT
BEGIN:STANDARD
TZOFFSETFROM:-0400
TZOFFSETTO:-0500
TZNAME:EST
DTSTART:20261101T060000
END:STANDARD
BEGIN:DAYLIGHT
TZOFFSETFROM:-0500
TZOFFSETTO:-0400
TZNAME:EDT
DTSTART:20270314T070000
END:DAYLIGHT
BEGIN:STANDARD
TZOFFSETFROM:-0400
TZOFFSETTO:-0500
TZNAME:EST
DTSTART:20271107T060000
END:STANDARD
END:VTIMEZONE
BEGIN:VEVENT
DTSTART;TZID=America/New_York:20260827T193000
DTEND;TZID=America/New_York:20260827T202000
DTSTAMP:20260421T082057
CREATED:20260107T182435Z
LAST-MODIFIED:20260107T182436Z
UID:10032631-1787859000-1787862000@cmde.org
SUMMARY:Hip Hop
DESCRIPTION:[vc_row][vc_column][vc_column_text]Instructor: Sasha \nAdults \nWelcome to our Hip Hop & Step Dance class with Sasha Thompson! Get ready to groove\, pop\, and lock as you dive into the energetic and dynamic world of the dance. This class is all about self-expression\, creativity\, and embracing the vibrant culture of this style. \nIn this class\, participants will learn the foundations and fundamentals of hip hop movement while exploring various styles within the genre. From old school to new school\, students will be introduced to the iconic moves\, footwork\, and techniques that make hip hop dance so exciting and popular.[/vc_column_text][vc_btn title=”REGISTER” style=”flat” shape=”square” color=”turquoise” link=”url:%2Fregistration%2F”][/vc_column][/vc_row]
URL:https://cmde.org/event/hip-hop-2-2/2026-08-27/
LOCATION:CMDE\, 84 Euclid Ave\, Hackensack\, 07601\, United States
CATEGORIES:CMDE in person class
ORGANIZER;CN="CMDE":MAILTO:info@cmde.org
END:VEVENT
BEGIN:VEVENT
DTSTART;TZID=America/New_York:20260828T190000
DTEND;TZID=America/New_York:20260828T210000
DTSTAMP:20260421T082057
CREATED:20260107T175842Z
LAST-MODIFIED:20260107T175842Z
UID:10035302-1787943600-1787950800@cmde.org
SUMMARY:Elie Private Sessions
DESCRIPTION:
URL:https://cmde.org/event/elie-private-sessions/2026-08-28/
LOCATION:CMDE\, 84 Euclid Ave\, Hackensack\, 07601\, United States
CATEGORIES:Guest Classes
ORGANIZER;CN="CMDE":MAILTO:info@cmde.org
END:VEVENT
BEGIN:VEVENT
DTSTART;TZID=America/New_York:20260901T100000
DTEND;TZID=America/New_York:20260901T110000
DTSTAMP:20260421T082057
CREATED:20260107T174153Z
LAST-MODIFIED:20260107T174218Z
UID:10034714-1788256800-1788260400@cmde.org
SUMMARY:Strive
DESCRIPTION:Moving Experience for Adults with Disabilities\nInstructors: Silinea and Allie\nIn person and ZOOM \nWelcome to our Moving Experience dance class\, specifically designed for adults with disabilities. This class offers a safe and inclusive space where individuals of all abilities can explore the joy of movement\, express themselves creatively\, and experience the transformative power of dance. \nIn our Moving Experience class\, we believe that dance is a universal language that knows no boundaries. Our experienced instructors are trained in adaptive dance techniques and have a deep understanding of the diverse needs and abilities of individuals with disabilities. We strive to create an environment that promotes confidence\, self-expression\, and personal growth for each participant.
URL:https://cmde.org/event/strive/2026-09-01/
LOCATION:CMDE\, 84 Euclid Ave\, Hackensack\, 07601\, United States
CATEGORIES:CMDE in person class
ATTACH;FMTTYPE=image/jpeg:https://cmde.org/wp-content/uploads/2025/01/strive.jpg
ORGANIZER;CN="CMDE":MAILTO:info@cmde.org
END:VEVENT
BEGIN:VEVENT
DTSTART;TZID=America/New_York:20260915T100000
DTEND;TZID=America/New_York:20260915T110000
DTSTAMP:20260421T082057
CREATED:20260107T174524Z
LAST-MODIFIED:20260107T174524Z
UID:10034732-1789466400-1789470000@cmde.org
SUMMARY:Strive
DESCRIPTION:Moving Experience for Adults with Disabilities\nInstructors: Silinea and Allie\nIn person and ZOOM \nWelcome to our Moving Experience dance class\, specifically designed for adults with disabilities. This class offers a safe and inclusive space where individuals of all abilities can explore the joy of movement\, express themselves creatively\, and experience the transformative power of dance. \nIn our Moving Experience class\, we believe that dance is a universal language that knows no boundaries. Our experienced instructors are trained in adaptive dance techniques and have a deep understanding of the diverse needs and abilities of individuals with disabilities. We strive to create an environment that promotes confidence\, self-expression\, and personal growth for each participant.
URL:https://cmde.org/event/strive-2/2026-09-15/
LOCATION:CMDE\, 84 Euclid Ave\, Hackensack\, 07601\, United States
CATEGORIES:CMDE in person class
ATTACH;FMTTYPE=image/jpeg:https://cmde.org/wp-content/uploads/2025/01/strive.jpg
ORGANIZER;CN="CMDE":MAILTO:info@cmde.org
END:VEVENT
BEGIN:VEVENT
DTSTART;TZID=America/New_York:20260915T130000
DTEND;TZID=America/New_York:20260915T150000
DTSTAMP:20260421T082057
CREATED:20240510T220333Z
LAST-MODIFIED:20240510T220424Z
UID:10018558-1789477200-1789484400@cmde.org
SUMMARY:Call Us Clowns
DESCRIPTION:Call Us Clowns are an award-winning troupe of Caring/Therapeutic clowns who volunteer their time and talent. They perform as individuals and in show groups\, assuring a high level of quality through professional training\, rehearsals\, and continuing clown education. \nContact: info@CallUsClowns.org
URL:https://cmde.org/event/call-us-clowns-2/2026-09-15/
LOCATION:CMDE\, 84 Euclid Ave\, Hackensack\, 07601\, United States
CATEGORIES:Guest Classes
ATTACH;FMTTYPE=image/jpeg:https://cmde.org/wp-content/uploads/2024/05/Call-us-Clowns-caring.jpg
END:VEVENT
BEGIN:VEVENT
DTSTART;TZID=America/New_York:20260918T180000
DTEND;TZID=America/New_York:20260918T193000
DTSTAMP:20260421T082057
CREATED:20260107T175714Z
LAST-MODIFIED:20260107T175714Z
UID:10035260-1789754400-1789759800@cmde.org
SUMMARY:Line Dance Party!
DESCRIPTION:Instructor: Sasha
URL:https://cmde.org/event/line-dance-party-3/2026-09-18/
LOCATION:CMDE\, 84 Euclid Ave\, Hackensack\, 07601\, United States
CATEGORIES:CMDE in person class
ORGANIZER;CN="CMDE":MAILTO:info@cmde.org
END:VEVENT
BEGIN:VEVENT
DTSTART;VALUE=DATE:20260919
DTEND;VALUE=DATE:20260920
DTSTAMP:20260421T082057
CREATED:20260126T205805Z
LAST-MODIFIED:20260126T210535Z
UID:10035641-1789776000-1789862399@cmde.org
SUMMARY:Mural Unveiling & Studio Performances
DESCRIPTION:[vc_row][vc_column][vc_column_text]Part of Hackensack Moves Project[/vc_column_text][/vc_column][/vc_row][vc_row][vc_column width=”1/2″][vc_single_image image=”16044″ img_size=”full”][/vc_column][vc_column width=”1/2″][vc_row_inner content_placement=”middle”][vc_column_inner width=”1/2″][vc_single_image image=”15873″ img_size=”full”][/vc_column_inner][vc_column_inner width=”1/2″][vc_column_text]Supported by funding through the NJEDA’s A.R.T. – Phase II Grant Program.[/vc_column_text][/vc_column_inner][/vc_row_inner][/vc_column][/vc_row]
URL:https://cmde.org/event/mural-unveiling-studio-performances/
LOCATION:CMDE\, 84 Euclid Ave\, Hackensack\, 07601\, United States
CATEGORIES:Special events
ATTACH;FMTTYPE=image/jpeg:https://cmde.org/wp-content/uploads/2026/01/Mural-Unveiling.jpg
ORGANIZER;CN="CMDE":MAILTO:info@cmde.org
END:VEVENT
BEGIN:VEVENT
DTSTART;VALUE=DATE:20261003
DTEND;VALUE=DATE:20261004
DTSTAMP:20260421T082057
CREATED:20260126T211310Z
LAST-MODIFIED:20260126T211714Z
UID:10035643-1790985600-1791071999@cmde.org
SUMMARY:Parade in Hackensack
DESCRIPTION:[vc_row][vc_column][vc_column_text]Part of Hackensack Moves project[/vc_column_text][/vc_column][/vc_row][vc_row][vc_column width=”1/2″][vc_single_image image=”16044″ img_size=”full”][/vc_column][vc_column width=”1/2″][vc_row_inner content_placement=”middle”][vc_column_inner width=”1/2″][vc_single_image image=”15873″ img_size=”full”][/vc_column_inner][vc_column_inner width=”1/2″][vc_column_text]Supported by funding through the NJEDA’s A.R.T. – Phase II Grant Program.[/vc_column_text][/vc_column_inner][/vc_row_inner][/vc_column][/vc_row]
URL:https://cmde.org/event/parade-in-hackensack/
LOCATION:CMDE\, 84 Euclid Ave\, Hackensack\, 07601\, United States
CATEGORIES:Special events
ATTACH;FMTTYPE=image/jpeg:https://cmde.org/wp-content/uploads/2026/01/parade.jpg
ORGANIZER;CN="CMDE":MAILTO:info@cmde.org
END:VEVENT
BEGIN:VEVENT
DTSTART;VALUE=DATE:20261019
DTEND;VALUE=DATE:20261020
DTSTAMP:20260421T082057
CREATED:20260126T210622Z
LAST-MODIFIED:20260126T210622Z
UID:10035642-1792368000-1792454399@cmde.org
SUMMARY:Dance workshop and a demonstration in Ivory Coast traditional dances
DESCRIPTION:[vc_row][vc_column][vc_column_text]with Yahaya \nPart of Hackensack Moves Dance Company[/vc_column_text][/vc_column][/vc_row][vc_row][vc_column width=”1/2″][vc_single_image image=”16044″ img_size=”full”][/vc_column][vc_column width=”1/2″][vc_row_inner content_placement=”middle”][vc_column_inner width=”1/2″][vc_single_image image=”15873″ img_size=”full”][/vc_column_inner][vc_column_inner width=”1/2″][vc_column_text]Supported by funding through the NJEDA’s A.R.T. – Phase II Grant Program.[/vc_column_text][/vc_column_inner][/vc_row_inner][/vc_column][/vc_row]
URL:https://cmde.org/event/dance-workshop-and-a-demonstration-in-ivory-coast-traditional-dances/
LOCATION:CMDE\, 84 Euclid Ave\, Hackensack\, 07601\, United States
CATEGORIES:Special events
ATTACH;FMTTYPE=image/jpeg:https://cmde.org/wp-content/uploads/2026/01/Ivory-Coast-traditional-dance.jpg
ORGANIZER;CN="CMDE":MAILTO:info@cmde.org
END:VEVENT
BEGIN:VEVENT
DTSTART;TZID=America/New_York:20261212T160000
DTEND;TZID=America/New_York:20261212T180000
DTSTAMP:20260421T082057
CREATED:20260126T212253Z
LAST-MODIFIED:20260126T212253Z
UID:10035644-1797091200-1797098400@cmde.org
SUMMARY:CMDE Cameo
DESCRIPTION:Featuring Faculty Spotlight
URL:https://cmde.org/event/cmde-cameo/
LOCATION:CMDE\, 84 Euclid Ave\, Hackensack\, 07601\, United States
CATEGORIES:Special events
ATTACH;FMTTYPE=image/jpeg:https://cmde.org/wp-content/uploads/2026/01/ready-to-connect.jpg
ORGANIZER;CN="CMDE":MAILTO:info@cmde.org
END:VEVENT
END:VCALENDAR