BEGIN:VCALENDAR
VERSION:2.0
PRODID:-//CMDE - ECPv6.15.20//NONSGML v1.0//EN
CALSCALE:GREGORIAN
METHOD:PUBLISH
X-WR-CALNAME:CMDE
X-ORIGINAL-URL:https://cmde.org
X-WR-CALDESC:Events for CMDE
REFRESH-INTERVAL;VALUE=DURATION:PT1H
X-Robots-Tag:noindex
X-PUBLISHED-TTL:PT1H
BEGIN:VTIMEZONE
TZID:America/New_York
BEGIN:DAYLIGHT
TZOFFSETFROM:-0500
TZOFFSETTO:-0400
TZNAME:EDT
DTSTART:20250309T070000
END:DAYLIGHT
BEGIN:STANDARD
TZOFFSETFROM:-0400
TZOFFSETTO:-0500
TZNAME:EST
DTSTART:20251102T060000
END:STANDARD
BEGIN:DAYLIGHT
TZOFFSETFROM:-0500
TZOFFSETTO:-0400
TZNAME:EDT
DTSTART:20260308T070000
END:DAYLIGHT
BEGIN:STANDARD
TZOFFSETFROM:-0400
TZOFFSETTO:-0500
TZNAME:EST
DTSTART:20261101T060000
END:STANDARD
BEGIN:DAYLIGHT
TZOFFSETFROM:-0500
TZOFFSETTO:-0400
TZNAME:EDT
DTSTART:20270314T070000
END:DAYLIGHT
BEGIN:STANDARD
TZOFFSETFROM:-0400
TZOFFSETTO:-0500
TZNAME:EST
DTSTART:20271107T060000
END:STANDARD
END:VTIMEZONE
BEGIN:VEVENT
DTSTART;TZID=America/New_York:20260714T183000
DTEND;TZID=America/New_York:20260714T192000
DTSTAMP:20260421T092015
CREATED:20250913T170151Z
LAST-MODIFIED:20260105T185126Z
UID:10030799-1784053800-1784056800@cmde.org
SUMMARY:Moving Experience dance class (MEDC)
DESCRIPTION:[vc_row][vc_column][vc_column_text]Instructors: Allie & Silinea \nTeens & Adults with disabilities\nIn person and ZOOM \nWelcome to our Moving Experience dance class (MEDC)\, specifically designed for adults with disabilities. This class offers a safe and inclusive space where individuals of all abilities can explore the joy of movement\, express themselves creatively\, and experience the transformative power of dance. \nIn our Moving Experience class\, we believe that dance is a universal language that knows no boundaries. Our experienced instructors are trained in adaptive dance techniques and have a deep understanding of the diverse needs and abilities of individuals with disabilities. We strive to create an environment that promotes confidence\, self-expression\, and personal growth for each participant.[/vc_column_text][vc_btn title=”REGISTER” style=”flat” shape=”square” color=”turquoise” link=”url:%2Fregistration%2F”][/vc_column][/vc_row]
URL:https://cmde.org/event/moving-experience-dance-class-medc/2026-07-14/
LOCATION:CMDE\, 84 Euclid Ave\, Hackensack\, 07601\, United States
CATEGORIES:CMDE in person class
ATTACH;FMTTYPE=image/jpeg:https://cmde.org/wp-content/uploads/2025/02/abilities-expo-2025.jpg
ORGANIZER;CN="CMDE":MAILTO:info@cmde.org
END:VEVENT
BEGIN:VEVENT
DTSTART;TZID=America/New_York:20260714T183000
DTEND;TZID=America/New_York:20260714T192000
DTSTAMP:20260421T092015
CREATED:20250930T152821Z
LAST-MODIFIED:20260107T174816Z
UID:10031060-1784053800-1784056800@cmde.org
SUMMARY:Youth Hip Hop & Step
DESCRIPTION:[vc_row][vc_column][vc_column_text]Ages 8-18\nWith Sasha\nStudion B (downstairs) \nGet moving with high-energy classes that blend the latest hip hop moves with the powerful rhythms of step! Dancers will build strength\, coordination\, and confidence while learning dynamic choreography that celebrates creativity and teamwork. This class encourages self-expression\, musicality\, and discipline in a fun and supportive environment. Perfect for both beginners and experienced dancers looking to develop their skills and perform with power and style.[/vc_column_text][vc_btn title=”Register” style=”flat” shape=”square” color=”turquoise” link=”url:%2Fregistration%2F|title:class%20registration”][/vc_column][/vc_row]
URL:https://cmde.org/event/youth-hip-hop-step/2026-07-14/
LOCATION:CMDE\, 84 Euclid Ave\, Hackensack\, 07601\, United States
CATEGORIES:CMDE in person class
ORGANIZER;CN="CMDE":MAILTO:info@cmde.org
END:VEVENT
BEGIN:VEVENT
DTSTART;TZID=America/New_York:20260714T193000
DTEND;TZID=America/New_York:20260714T202000
DTSTAMP:20260421T092015
CREATED:20250914T030056Z
LAST-MODIFIED:20260105T185501Z
UID:10031321-1784057400-1784060400@cmde.org
SUMMARY:Ballet Basics for Every Body
DESCRIPTION:Instructor: Silinea\nTeens & Adults \nStep into the grace of ballet! \nJoin our Ballet Basics for Every Body class\, perfect for teens and adults new to dance. We’ll cover proper posture\, fundamental barre work\, and basic center steps. \nStart your journey today—absolutely no experience needed! \n 
URL:https://cmde.org/event/ballet-basics-for-every-body/2026-07-14/
LOCATION:CMDE\, 84 Euclid Ave\, Hackensack\, 07601\, United States
CATEGORIES:CMDE in person class
ATTACH;FMTTYPE=image/jpeg:https://cmde.org/wp-content/uploads/2023/07/ballet-bassics-1600-2.jpg
ORGANIZER;CN="CMDE":MAILTO:info@cmde.org
END:VEVENT
BEGIN:VEVENT
DTSTART;TZID=America/New_York:20260717T180000
DTEND;TZID=America/New_York:20260717T193000
DTSTAMP:20260421T092015
CREATED:20260107T175714Z
LAST-MODIFIED:20260107T175714Z
UID:10035258-1784311200-1784316600@cmde.org
SUMMARY:Line Dance Party!
DESCRIPTION:Instructor: Sasha
URL:https://cmde.org/event/line-dance-party-3/2026-07-17/
LOCATION:CMDE\, 84 Euclid Ave\, Hackensack\, 07601\, United States
CATEGORIES:CMDE in person class
ORGANIZER;CN="CMDE":MAILTO:info@cmde.org
END:VEVENT
BEGIN:VEVENT
DTSTART;TZID=America/New_York:20260721T100000
DTEND;TZID=America/New_York:20260721T110000
DTSTAMP:20260421T092015
CREATED:20260107T174524Z
LAST-MODIFIED:20260107T174524Z
UID:10034730-1784628000-1784631600@cmde.org
SUMMARY:Strive
DESCRIPTION:Moving Experience for Adults with Disabilities\nInstructors: Silinea and Allie\nIn person and ZOOM \nWelcome to our Moving Experience dance class\, specifically designed for adults with disabilities. This class offers a safe and inclusive space where individuals of all abilities can explore the joy of movement\, express themselves creatively\, and experience the transformative power of dance. \nIn our Moving Experience class\, we believe that dance is a universal language that knows no boundaries. Our experienced instructors are trained in adaptive dance techniques and have a deep understanding of the diverse needs and abilities of individuals with disabilities. We strive to create an environment that promotes confidence\, self-expression\, and personal growth for each participant.
URL:https://cmde.org/event/strive-2/2026-07-21/
LOCATION:CMDE\, 84 Euclid Ave\, Hackensack\, 07601\, United States
CATEGORIES:CMDE in person class
ATTACH;FMTTYPE=image/jpeg:https://cmde.org/wp-content/uploads/2025/01/strive.jpg
ORGANIZER;CN="CMDE":MAILTO:info@cmde.org
END:VEVENT
BEGIN:VEVENT
DTSTART;TZID=America/New_York:20260721T130000
DTEND;TZID=America/New_York:20260721T150000
DTSTAMP:20260421T092015
CREATED:20240510T220333Z
LAST-MODIFIED:20240510T220424Z
UID:10018556-1784638800-1784646000@cmde.org
SUMMARY:Call Us Clowns
DESCRIPTION:Call Us Clowns are an award-winning troupe of Caring/Therapeutic clowns who volunteer their time and talent. They perform as individuals and in show groups\, assuring a high level of quality through professional training\, rehearsals\, and continuing clown education. \nContact: info@CallUsClowns.org
URL:https://cmde.org/event/call-us-clowns-2/2026-07-21/
LOCATION:CMDE\, 84 Euclid Ave\, Hackensack\, 07601\, United States
CATEGORIES:Guest Classes
ATTACH;FMTTYPE=image/jpeg:https://cmde.org/wp-content/uploads/2024/05/Call-us-Clowns-caring.jpg
END:VEVENT
BEGIN:VEVENT
DTSTART;VALUE=DATE:20260727
DTEND;VALUE=DATE:20260808
DTSTAMP:20260421T092015
CREATED:20260126T204602Z
LAST-MODIFIED:20260126T204602Z
UID:10035638-1785110400-1786147199@cmde.org
SUMMARY:Summer Stars Girl’s Camp
DESCRIPTION:
URL:https://cmde.org/event/summer-stars-girls-camp/
LOCATION:CMDE\, 84 Euclid Ave\, Hackensack\, 07601\, United States
CATEGORIES:Summer Camp
ORGANIZER;CN="CMDE":MAILTO:info@cmde.org
END:VEVENT
BEGIN:VEVENT
DTSTART;TZID=America/New_York:20260804T100000
DTEND;TZID=America/New_York:20260804T110000
DTSTAMP:20260421T092015
CREATED:20260107T174153Z
LAST-MODIFIED:20260107T174218Z
UID:10034713-1785837600-1785841200@cmde.org
SUMMARY:Strive
DESCRIPTION:Moving Experience for Adults with Disabilities\nInstructors: Silinea and Allie\nIn person and ZOOM \nWelcome to our Moving Experience dance class\, specifically designed for adults with disabilities. This class offers a safe and inclusive space where individuals of all abilities can explore the joy of movement\, express themselves creatively\, and experience the transformative power of dance. \nIn our Moving Experience class\, we believe that dance is a universal language that knows no boundaries. Our experienced instructors are trained in adaptive dance techniques and have a deep understanding of the diverse needs and abilities of individuals with disabilities. We strive to create an environment that promotes confidence\, self-expression\, and personal growth for each participant.
URL:https://cmde.org/event/strive/2026-08-04/
LOCATION:CMDE\, 84 Euclid Ave\, Hackensack\, 07601\, United States
CATEGORIES:CMDE in person class
ATTACH;FMTTYPE=image/jpeg:https://cmde.org/wp-content/uploads/2025/01/strive.jpg
ORGANIZER;CN="CMDE":MAILTO:info@cmde.org
END:VEVENT
BEGIN:VEVENT
DTSTART;VALUE=DATE:20260810
DTEND;VALUE=DATE:20260822
DTSTAMP:20260421T092015
CREATED:20260126T204704Z
LAST-MODIFIED:20260126T204704Z
UID:10035639-1786320000-1787356799@cmde.org
SUMMARY:Summer Stars Boy’s Camp
DESCRIPTION:
URL:https://cmde.org/event/summer-stars-boys-camp/
LOCATION:CMDE\, 84 Euclid Ave\, Hackensack\, 07601\, United States
CATEGORIES:Summer Camp
ORGANIZER;CN="CMDE":MAILTO:info@cmde.org
END:VEVENT
BEGIN:VEVENT
DTSTART;VALUE=DATE:20260820
DTEND;VALUE=DATE:20260821
DTSTAMP:20260421T092015
CREATED:20260126T205239Z
LAST-MODIFIED:20260126T205239Z
UID:10035640-1787184000-1787270399@cmde.org
SUMMARY:Kid’s Story Slam Performance
DESCRIPTION:
URL:https://cmde.org/event/kids-story-slam-performance/
LOCATION:CMDE\, 84 Euclid Ave\, Hackensack\, 07601\, United States
CATEGORIES:Special events
ATTACH;FMTTYPE=image/jpeg:https://cmde.org/wp-content/uploads/2026/01/Kids-Story-Slam-Performance.jpg
ORGANIZER;CN="CMDE":MAILTO:info@cmde.org
END:VEVENT
BEGIN:VEVENT
DTSTART;VALUE=DATE:20260919
DTEND;VALUE=DATE:20260920
DTSTAMP:20260421T092015
CREATED:20260126T205805Z
LAST-MODIFIED:20260126T210535Z
UID:10035641-1789776000-1789862399@cmde.org
SUMMARY:Mural Unveiling & Studio Performances
DESCRIPTION:[vc_row][vc_column][vc_column_text]Part of Hackensack Moves Project[/vc_column_text][/vc_column][/vc_row][vc_row][vc_column width=”1/2″][vc_single_image image=”16044″ img_size=”full”][/vc_column][vc_column width=”1/2″][vc_row_inner content_placement=”middle”][vc_column_inner width=”1/2″][vc_single_image image=”15873″ img_size=”full”][/vc_column_inner][vc_column_inner width=”1/2″][vc_column_text]Supported by funding through the NJEDA’s A.R.T. – Phase II Grant Program.[/vc_column_text][/vc_column_inner][/vc_row_inner][/vc_column][/vc_row]
URL:https://cmde.org/event/mural-unveiling-studio-performances/
LOCATION:CMDE\, 84 Euclid Ave\, Hackensack\, 07601\, United States
CATEGORIES:Special events
ATTACH;FMTTYPE=image/jpeg:https://cmde.org/wp-content/uploads/2026/01/Mural-Unveiling.jpg
ORGANIZER;CN="CMDE":MAILTO:info@cmde.org
END:VEVENT
BEGIN:VEVENT
DTSTART;VALUE=DATE:20261003
DTEND;VALUE=DATE:20261004
DTSTAMP:20260421T092015
CREATED:20260126T211310Z
LAST-MODIFIED:20260126T211714Z
UID:10035643-1790985600-1791071999@cmde.org
SUMMARY:Parade in Hackensack
DESCRIPTION:[vc_row][vc_column][vc_column_text]Part of Hackensack Moves project[/vc_column_text][/vc_column][/vc_row][vc_row][vc_column width=”1/2″][vc_single_image image=”16044″ img_size=”full”][/vc_column][vc_column width=”1/2″][vc_row_inner content_placement=”middle”][vc_column_inner width=”1/2″][vc_single_image image=”15873″ img_size=”full”][/vc_column_inner][vc_column_inner width=”1/2″][vc_column_text]Supported by funding through the NJEDA’s A.R.T. – Phase II Grant Program.[/vc_column_text][/vc_column_inner][/vc_row_inner][/vc_column][/vc_row]
URL:https://cmde.org/event/parade-in-hackensack/
LOCATION:CMDE\, 84 Euclid Ave\, Hackensack\, 07601\, United States
CATEGORIES:Special events
ATTACH;FMTTYPE=image/jpeg:https://cmde.org/wp-content/uploads/2026/01/parade.jpg
ORGANIZER;CN="CMDE":MAILTO:info@cmde.org
END:VEVENT
BEGIN:VEVENT
DTSTART;VALUE=DATE:20261019
DTEND;VALUE=DATE:20261020
DTSTAMP:20260421T092015
CREATED:20260126T210622Z
LAST-MODIFIED:20260126T210622Z
UID:10035642-1792368000-1792454399@cmde.org
SUMMARY:Dance workshop and a demonstration in Ivory Coast traditional dances
DESCRIPTION:[vc_row][vc_column][vc_column_text]with Yahaya \nPart of Hackensack Moves Dance Company[/vc_column_text][/vc_column][/vc_row][vc_row][vc_column width=”1/2″][vc_single_image image=”16044″ img_size=”full”][/vc_column][vc_column width=”1/2″][vc_row_inner content_placement=”middle”][vc_column_inner width=”1/2″][vc_single_image image=”15873″ img_size=”full”][/vc_column_inner][vc_column_inner width=”1/2″][vc_column_text]Supported by funding through the NJEDA’s A.R.T. – Phase II Grant Program.[/vc_column_text][/vc_column_inner][/vc_row_inner][/vc_column][/vc_row]
URL:https://cmde.org/event/dance-workshop-and-a-demonstration-in-ivory-coast-traditional-dances/
LOCATION:CMDE\, 84 Euclid Ave\, Hackensack\, 07601\, United States
CATEGORIES:Special events
ATTACH;FMTTYPE=image/jpeg:https://cmde.org/wp-content/uploads/2026/01/Ivory-Coast-traditional-dance.jpg
ORGANIZER;CN="CMDE":MAILTO:info@cmde.org
END:VEVENT
BEGIN:VEVENT
DTSTART;TZID=America/New_York:20261212T160000
DTEND;TZID=America/New_York:20261212T180000
DTSTAMP:20260421T092015
CREATED:20260126T212253Z
LAST-MODIFIED:20260126T212253Z
UID:10035644-1797091200-1797098400@cmde.org
SUMMARY:CMDE Cameo
DESCRIPTION:Featuring Faculty Spotlight
URL:https://cmde.org/event/cmde-cameo/
LOCATION:CMDE\, 84 Euclid Ave\, Hackensack\, 07601\, United States
CATEGORIES:Special events
ATTACH;FMTTYPE=image/jpeg:https://cmde.org/wp-content/uploads/2026/01/ready-to-connect.jpg
ORGANIZER;CN="CMDE":MAILTO:info@cmde.org
END:VEVENT
END:VCALENDAR