BEGIN:VCALENDAR
VERSION:2.0
PRODID:-//CMDE - ECPv6.15.20//NONSGML v1.0//EN
CALSCALE:GREGORIAN
METHOD:PUBLISH
X-WR-CALNAME:CMDE
X-ORIGINAL-URL:https://cmde.org
X-WR-CALDESC:Events for CMDE
REFRESH-INTERVAL;VALUE=DURATION:PT1H
X-Robots-Tag:noindex
X-PUBLISHED-TTL:PT1H
BEGIN:VTIMEZONE
TZID:America/New_York
BEGIN:DAYLIGHT
TZOFFSETFROM:-0500
TZOFFSETTO:-0400
TZNAME:EDT
DTSTART:20250309T070000
END:DAYLIGHT
BEGIN:STANDARD
TZOFFSETFROM:-0400
TZOFFSETTO:-0500
TZNAME:EST
DTSTART:20251102T060000
END:STANDARD
BEGIN:DAYLIGHT
TZOFFSETFROM:-0500
TZOFFSETTO:-0400
TZNAME:EDT
DTSTART:20260308T070000
END:DAYLIGHT
BEGIN:STANDARD
TZOFFSETFROM:-0400
TZOFFSETTO:-0500
TZNAME:EST
DTSTART:20261101T060000
END:STANDARD
BEGIN:DAYLIGHT
TZOFFSETFROM:-0500
TZOFFSETTO:-0400
TZNAME:EDT
DTSTART:20270314T070000
END:DAYLIGHT
BEGIN:STANDARD
TZOFFSETFROM:-0400
TZOFFSETTO:-0500
TZNAME:EST
DTSTART:20271107T060000
END:STANDARD
END:VTIMEZONE
BEGIN:VEVENT
DTSTART;TZID=America/New_York:20261125T194500
DTEND;TZID=America/New_York:20261125T204500
DTSTAMP:20260422T060129
CREATED:20260304T225019Z
LAST-MODIFIED:20260304T225019Z
UID:10035945-1795635900-1795639500@cmde.org
SUMMARY:Bellydance for Body and Soul
DESCRIPTION:Bellydance for Body and Soul ~ Sisterhood and Dance. 🌕  \nFrom mothers and daughters to lifelong friends—our Wednesday night circle is open. Join Kanoélehua for an hour of Bellydance that strengthens the body\, heals the mind\, and delights the spirit! Experience your own true “Inner Grace” that only dance can reveal. \nOngoing Wednesdays:7:45 – 8:45 PM\nCMDE\, 84 Euclid Ave\, Hackensack\, NJ\nSuggested Donation:$20\nText: (551) 208-0330 to confirm  \nI would love to see you there! \n(Plenty of space on the side for children to play\, if you would like to bring them. All are welcome!)
URL:https://cmde.org/event/bellydance-for-body-and-soul/2026-11-25/
LOCATION:CMDE\, 84 Euclid Ave\, Hackensack\, 07601\, United States
CATEGORIES:Guest Classes
ATTACH;FMTTYPE=image/jpeg:https://cmde.org/wp-content/uploads/2026/01/d2de1d588cc8061aa7405bc998698b1c.jpeg
ORGANIZER;CN="CMDE":MAILTO:info@cmde.org
END:VEVENT
BEGIN:VEVENT
DTSTART;TZID=America/New_York:20261126T153000
DTEND;TZID=America/New_York:20261126T162000
DTSTAMP:20260422T060129
CREATED:20250913T172500Z
LAST-MODIFIED:20260105T190153Z
UID:10031861-1795707000-1795710000@cmde.org
SUMMARY:Tai Chi
DESCRIPTION:[vc_row][vc_column][vc_column_text]Instructor: Barry\nAdults-Seniors \nTai Chi is a mind-body practice that combines non contact martial arts and meditation to improve physical and mental health. Done slowly with attention to breath and posture can help improve balance\, focus\, core strength and overall health.[/vc_column_text][vc_btn title=”REGISTER” style=”flat” shape=”square” color=”turquoise” link=”url:%2Fregistration%2F”][/vc_column][/vc_row]
URL:https://cmde.org/event/tai-chi-3/2026-11-26/
LOCATION:CMDE\, 84 Euclid Ave\, Hackensack\, 07601\, United States
CATEGORIES:CMDE in person class
ATTACH;FMTTYPE=image/jpeg:https://cmde.org/wp-content/uploads/2024/05/DSC06850.jpg
ORGANIZER;CN="CMDE":MAILTO:info@cmde.org
END:VEVENT
BEGIN:VEVENT
DTSTART;TZID=America/New_York:20261126T163000
DTEND;TZID=America/New_York:20261126T172000
DTSTAMP:20260422T060129
CREATED:20250913T173137Z
LAST-MODIFIED:20260105T190335Z
UID:10032122-1795710600-1795713600@cmde.org
SUMMARY:Creative African Dance
DESCRIPTION:Instructor: Yahaya\nAges 4-12 \nKids will move\, groove\, and celebrate culture in this joyful Creative African Dance class! Using traditional African rhythms and movements\, children explore storytelling through dance while building coordination\, confidence\, and a sense of community. This high-energy class encourages creativity and self-expression\, all while developing rhythm\, strength\, and teamwork. Perfect for kids who love to move and want to discover the joy of dance in a fun\, supportive environment. \n 
URL:https://cmde.org/event/creative-african-dance/2026-11-26/
LOCATION:CMDE\, 84 Euclid Ave\, Hackensack\, 07601\, United States
CATEGORIES:CMDE in person class
ATTACH;FMTTYPE=image/jpeg:https://cmde.org/wp-content/uploads/2024/09/creative-african-dance-young-kids-.jpg
ORGANIZER;CN="CMDE":MAILTO:info@cmde.org
END:VEVENT
BEGIN:VEVENT
DTSTART;TZID=America/New_York:20261126T173000
DTEND;TZID=America/New_York:20261126T192000
DTSTAMP:20260422T060129
CREATED:20250913T173956Z
LAST-MODIFIED:20260105T190513Z
UID:10032383-1795714200-1795720800@cmde.org
SUMMARY:Afro-Modern Company
DESCRIPTION:[vc_row][vc_column][vc_column_text]Instructors: Yahaya & Allie\nAges: 12-21\nJr. Members Ages: 8- 11 \n\nAfrican: 5:30-6:20pm\nModern: 6:30-7:20pm\n\nAfro-Modern Dance Company is CMDE’s youth company. This high-energy performance group is open to Teen and Young adult dancers with some dance or drumming experience and a strong desire to learn African dance and perform. \nAfro Modern\nTHURSDAYS\, 5:30PM\nInstructor: Yahaya\nExplore African Culture: Immerse yourself in the cultural context of African dance through storytelling\, music\, and traditional costumes. Gain a deeper understanding of the historical and social significance behind the dances\, fostering cultural appreciation and awareness. \nModern Dance\nTHURSDAYS\, 6:30PM\nInstructor: Allie\nIn the class students will explore the connection between movement and emotion\, allowing dancers to express their individuality and creativity through their own interpretations. Students will learn to tell stories and evoke emotions through their movement choices.[/vc_column_text][vc_btn title=”MORE INFO” link=”url:%2Fafrican-dance-company%2F”][/vc_column][/vc_row]
URL:https://cmde.org/event/afro-modern-company/2026-11-26/
LOCATION:CMDE\, 84 Euclid Ave\, Hackensack\, 07601\, United States
CATEGORIES:CMDE in person class
ATTACH;FMTTYPE=image/jpeg:https://cmde.org/wp-content/uploads/2024/11/african-dance.jpg
ORGANIZER;CN="CMDE":MAILTO:info@cmde.org
END:VEVENT
BEGIN:VEVENT
DTSTART;TZID=America/New_York:20261126T190000
DTEND;TZID=America/New_York:20261126T220000
DTSTAMP:20260422T060129
CREATED:20250527T154023Z
LAST-MODIFIED:20250527T154023Z
UID:10026772-1795719600-1795730400@cmde.org
SUMMARY:Salsa! with Pina
DESCRIPTION:Please contact:\n201-707-0999\ngloriasparrots@gmail.com
URL:https://cmde.org/event/salsa-with-pina-2/2026-11-26/
LOCATION:CMDE\, 84 Euclid Ave\, Hackensack\, 07601\, United States
CATEGORIES:Guest Classes
END:VEVENT
BEGIN:VEVENT
DTSTART;TZID=America/New_York:20261126T193000
DTEND;TZID=America/New_York:20261126T202000
DTSTAMP:20260422T060129
CREATED:20260107T182435Z
LAST-MODIFIED:20260107T182436Z
UID:10032644-1795721400-1795724400@cmde.org
SUMMARY:Hip Hop
DESCRIPTION:[vc_row][vc_column][vc_column_text]Instructor: Sasha \nAdults \nWelcome to our Hip Hop & Step Dance class with Sasha Thompson! Get ready to groove\, pop\, and lock as you dive into the energetic and dynamic world of the dance. This class is all about self-expression\, creativity\, and embracing the vibrant culture of this style. \nIn this class\, participants will learn the foundations and fundamentals of hip hop movement while exploring various styles within the genre. From old school to new school\, students will be introduced to the iconic moves\, footwork\, and techniques that make hip hop dance so exciting and popular.[/vc_column_text][vc_btn title=”REGISTER” style=”flat” shape=”square” color=”turquoise” link=”url:%2Fregistration%2F”][/vc_column][/vc_row]
URL:https://cmde.org/event/hip-hop-2-2/2026-11-26/
LOCATION:CMDE\, 84 Euclid Ave\, Hackensack\, 07601\, United States
CATEGORIES:CMDE in person class
ORGANIZER;CN="CMDE":MAILTO:info@cmde.org
END:VEVENT
BEGIN:VEVENT
DTSTART;TZID=America/New_York:20261127T190000
DTEND;TZID=America/New_York:20261127T210000
DTSTAMP:20260422T060129
CREATED:20260107T175842Z
LAST-MODIFIED:20260107T175842Z
UID:10035315-1795806000-1795813200@cmde.org
SUMMARY:Elie Private Sessions
DESCRIPTION:
URL:https://cmde.org/event/elie-private-sessions/2026-11-27/
LOCATION:CMDE\, 84 Euclid Ave\, Hackensack\, 07601\, United States
CATEGORIES:Guest Classes
ORGANIZER;CN="CMDE":MAILTO:info@cmde.org
END:VEVENT
BEGIN:VEVENT
DTSTART;TZID=America/New_York:20261128T100000
DTEND;TZID=America/New_York:20261128T111500
DTSTAMP:20260422T060129
CREATED:20250527T150350Z
LAST-MODIFIED:20250913T181313Z
UID:10022823-1795860000-1795864500@cmde.org
SUMMARY:Women’s Exercise & Dance
DESCRIPTION:With Lisa Skates lisa@simplysocialdancing.com 201-694-7087.\n \nThis is an exercise & dance  class for women.\nThe level is beginner to intermediate.\nLearn shoulder rolls\, shimmies\, arm stylings\, balance\, how to turn and lots of fun dance steps to try. \nThen we will work out together\, strengthening and stretching.  A combination of Pilates\, Yoga and dance exercises. \n 
URL:https://cmde.org/event/womens-work-out-2-2/2026-11-28/
LOCATION:CMDE\, 84 Euclid Ave\, Hackensack\, 07601\, United States
CATEGORIES:Guest Classes
ATTACH;FMTTYPE=image/webp:https://cmde.org/wp-content/uploads/2025/01/Women-Excercise-with-Lisa.webp
ORGANIZER;CN="CMDE":MAILTO:info@cmde.org
END:VEVENT
BEGIN:VEVENT
DTSTART;TZID=America/New_York:20261128T100000
DTEND;TZID=America/New_York:20261128T230000
DTSTAMP:20260422T060129
CREATED:20250913T164106Z
LAST-MODIFIED:20260330T005257Z
UID:10033179-1795860000-1795906800@cmde.org
SUMMARY:Dance Fusion Lab
DESCRIPTION:[vc_row][vc_column][vc_column_text]Instructor: Lateefah \nTeens – Adults\nAny skill levels\nIn person and on zoom \nThe dance fusion lab class is basic technique meets creative dance combinations that fuses Modern\, Jazz\, and a touch of sass![/vc_column_text][vc_btn title=”REGISTER” style=”flat” shape=”square” color=”turquoise” link=”url:%2Fregistration%2F”][/vc_column][/vc_row]
URL:https://cmde.org/event/dance-fusion-lab/2026-11-28/
LOCATION:CMDE\, 84 Euclid Ave\, Hackensack\, 07601\, United States
CATEGORIES:CMDE in person class
ORGANIZER;CN="CMDE":MAILTO:info@cmde.org
END:VEVENT
BEGIN:VEVENT
DTSTART;TZID=America/New_York:20261128T110000
DTEND;TZID=America/New_York:20261128T115000
DTSTAMP:20260422T060129
CREATED:20251105T155516Z
LAST-MODIFIED:20260330T005404Z
UID:10033440-1795863600-1795866600@cmde.org
SUMMARY:MEDC Moving Modern
DESCRIPTION:[vc_row][vc_column][vc_column_text]Instructor: Allie Brown\nIn Person and zoom.\nBeginner\, Adults. \nFall in love with Modern Dance! This class is especially beginner friendly\, breaking down the fundamentals of Modern Dance in a fun and inclusive way!\nNo previous dance experience required!\n[/vc_column_text][vc_btn title=”Register” shape=”square” color=”turquoise” link=”url:%2Fregistration%2F|title:REGISTRATION%20LINK%20″][/vc_column][/vc_row]
URL:https://cmde.org/event/moving-modern/2026-11-28/
LOCATION:CMDE\, 84 Euclid Ave\, Hackensack\, 07601\, United States
CATEGORIES:CMDE in person class
ORGANIZER;CN="CMDE":MAILTO:info@cmde.org
END:VEVENT
BEGIN:VEVENT
DTSTART;TZID=America/New_York:20261128T120000
DTEND;TZID=America/New_York:20261128T132000
DTSTAMP:20260422T060129
CREATED:20250913T165016Z
LAST-MODIFIED:20260330T005540Z
UID:10033702-1795867200-1795872000@cmde.org
SUMMARY:Modern Dance
DESCRIPTION:[vc_row][vc_column][vc_column_text]Instructor: Elissa \nAdults – Seniors \nJoin us for an invigorating and expressive journey into the world of modern dance! This class is designed for adults of all levels\, from beginners eager to explore new movements to experienced dancers looking to refine their skills.[/vc_column_text][vc_btn title=”REGISTER” style=”flat” shape=”square” color=”turquoise”][/vc_column][/vc_row]
URL:https://cmde.org/event/modern-dance-2/2026-11-28/
LOCATION:CMDE\, 84 Euclid Ave\, Hackensack\, 07601\, United States
CATEGORIES:CMDE in person class
ATTACH;FMTTYPE=image/jpeg:https://cmde.org/wp-content/uploads/2024/09/modern-dance-with-Elissa.jpg
ORGANIZER;CN="CMDE":MAILTO:info@cmde.org
END:VEVENT
BEGIN:VEVENT
DTSTART;TZID=America/New_York:20261128T170000
DTEND;TZID=America/New_York:20261128T213000
DTSTAMP:20260422T060129
CREATED:20250527T154633Z
LAST-MODIFIED:20250527T154634Z
UID:10027101-1795885200-1795901400@cmde.org
SUMMARY:Sahaja Yoga Meditation
DESCRIPTION:[vc_row][vc_column][vc_column_text]We can uncover our full potential when we are at peace within. Discover Sahaja Yoga Meditation\, an ancient technique updated for today’s speedy and restless world. \nEvery session includes a guided meditation to awaken and activate the subtle\, healing energy which exists within all of us. There is no charge for these classes\, as we cannot pay for the awakening of our own inner energy\, or our own self-knowledge. \nFREE Walk-ins Allowed without Registration \nRegistration is recommended\, walk-ins welcome – space permitting.[/vc_column_text][vc_btn title=”MEET UP REGISTRATION” style=”flat” color=”turquoise” link=”url:https%3A%2F%2Fwww.meetup.com%2FSahaja-yoga-meditation-at-hackensack%2Fhttps%3A%2F%2Fwww.meetup.com%2FSahaja-yoga-meditation-at-hackensack%2F|title:REGISTRATION%20LINK”][/vc_column][/vc_row]
URL:https://cmde.org/event/sahaja-yoga-meditation-2/2026-11-28/
LOCATION:CMDE\, 84 Euclid Ave\, Hackensack\, 07601\, United States
CATEGORIES:Guest Classes
ATTACH;FMTTYPE=image/png:https://cmde.org/wp-content/uploads/2024/02/image.png
ORGANIZER;CN="Ayush Jain":MAILTO:sy.ayush@gmail.com
END:VEVENT
BEGIN:VEVENT
DTSTART;TZID=America/New_York:20261129T140000
DTEND;TZID=America/New_York:20261129T150000
DTSTAMP:20260422T060129
CREATED:20250913T182738Z
LAST-MODIFIED:20260330T005705Z
UID:10034224-1795960800-1795964400@cmde.org
SUMMARY:Multi-Generational African Dance
DESCRIPTION:[vc_row][vc_column][vc_column_text]Instructor: Yahaya \nAll Ages*\nIn person & Zoom \nCelebrate movement\, music\, and community in this joyful African Dance class designed for all ages! Families and individuals of every generation are invited to dance together\, learning traditional African steps\, rhythms\, and cultural stories. This upbeat class builds strength\, coordination\, and confidence while fostering connection between participants. Whether you come with kids\, parents\, grandparents\, or on your own\, you’ll leave energized\, smiling\, and inspired by the power of dance across generations. \n*Kids under 8 yrs may participate with a grown-up[/vc_column_text][vc_btn title=”Register” style=”flat” shape=”square” color=”turquoise” link=”url:%2Fregistration%2F”][/vc_column][/vc_row]
URL:https://cmde.org/event/multi-generational-african-dance/2026-11-29/
LOCATION:CMDE\, 84 Euclid Ave\, Hackensack\, 07601\, United States
CATEGORIES:CMDE in person class
ATTACH;FMTTYPE=image/jpeg:https://cmde.org/wp-content/uploads/2024/01/Dancing-Stories-LP.jpg
ORGANIZER;CN="CMDE":MAILTO:info@cmde.org
END:VEVENT
BEGIN:VEVENT
DTSTART;TZID=America/New_York:20261129T150000
DTEND;TZID=America/New_York:20261129T153000
DTSTAMP:20260422T060129
CREATED:20250913T183242Z
LAST-MODIFIED:20260330T005804Z
UID:10034485-1795964400-1795966200@cmde.org
SUMMARY:African Drumming
DESCRIPTION:Instructor: Yahaya \n In person & Zoom \nExperience the power and rhythm of traditional African drumming in this energizing 30-minute class with master drummer Yahaya. Learn foundational techniques\, polyrhythms\, and cultural rhythms while building coordination\, focus\, and musical connection. Open to all levels\, this class offers a dynamic and uplifting way to engage with African music\, movement\, and community. Perfect as a stand-alone session or as a complement to dance training.
URL:https://cmde.org/event/drumming-3/2026-11-29/
LOCATION:CMDE\, 84 Euclid Ave\, Hackensack\, 07601\, United States
CATEGORIES:CMDE in person class
ATTACH;FMTTYPE=image/jpeg:https://cmde.org/wp-content/uploads/2025/09/drumming.jpg
ORGANIZER;CN="CMDE":MAILTO:info@cmde.org
END:VEVENT
BEGIN:VEVENT
DTSTART;TZID=America/New_York:20261201T100000
DTEND;TZID=America/New_York:20261201T110000
DTSTAMP:20260422T060129
CREATED:20260107T174153Z
LAST-MODIFIED:20260107T174218Z
UID:10034717-1796119200-1796122800@cmde.org
SUMMARY:Strive
DESCRIPTION:Moving Experience for Adults with Disabilities\nInstructors: Silinea and Allie\nIn person and ZOOM \nWelcome to our Moving Experience dance class\, specifically designed for adults with disabilities. This class offers a safe and inclusive space where individuals of all abilities can explore the joy of movement\, express themselves creatively\, and experience the transformative power of dance. \nIn our Moving Experience class\, we believe that dance is a universal language that knows no boundaries. Our experienced instructors are trained in adaptive dance techniques and have a deep understanding of the diverse needs and abilities of individuals with disabilities. We strive to create an environment that promotes confidence\, self-expression\, and personal growth for each participant.
URL:https://cmde.org/event/strive/2026-12-01/
LOCATION:CMDE\, 84 Euclid Ave\, Hackensack\, 07601\, United States
CATEGORIES:CMDE in person class
ATTACH;FMTTYPE=image/jpeg:https://cmde.org/wp-content/uploads/2025/01/strive.jpg
ORGANIZER;CN="CMDE":MAILTO:info@cmde.org
END:VEVENT
BEGIN:VEVENT
DTSTART;TZID=America/New_York:20261212T160000
DTEND;TZID=America/New_York:20261212T180000
DTSTAMP:20260422T060129
CREATED:20260126T212253Z
LAST-MODIFIED:20260126T212253Z
UID:10035644-1797091200-1797098400@cmde.org
SUMMARY:CMDE Cameo
DESCRIPTION:Featuring Faculty Spotlight
URL:https://cmde.org/event/cmde-cameo/
LOCATION:CMDE\, 84 Euclid Ave\, Hackensack\, 07601\, United States
CATEGORIES:Special events
ATTACH;FMTTYPE=image/jpeg:https://cmde.org/wp-content/uploads/2026/01/ready-to-connect.jpg
ORGANIZER;CN="CMDE":MAILTO:info@cmde.org
END:VEVENT
BEGIN:VEVENT
DTSTART;TZID=America/New_York:20261215T100000
DTEND;TZID=America/New_York:20261215T110000
DTSTAMP:20260422T060129
CREATED:20260107T174524Z
LAST-MODIFIED:20260107T174524Z
UID:10034735-1797328800-1797332400@cmde.org
SUMMARY:Strive
DESCRIPTION:Moving Experience for Adults with Disabilities\nInstructors: Silinea and Allie\nIn person and ZOOM \nWelcome to our Moving Experience dance class\, specifically designed for adults with disabilities. This class offers a safe and inclusive space where individuals of all abilities can explore the joy of movement\, express themselves creatively\, and experience the transformative power of dance. \nIn our Moving Experience class\, we believe that dance is a universal language that knows no boundaries. Our experienced instructors are trained in adaptive dance techniques and have a deep understanding of the diverse needs and abilities of individuals with disabilities. We strive to create an environment that promotes confidence\, self-expression\, and personal growth for each participant.
URL:https://cmde.org/event/strive-2/2026-12-15/
LOCATION:CMDE\, 84 Euclid Ave\, Hackensack\, 07601\, United States
CATEGORIES:CMDE in person class
ATTACH;FMTTYPE=image/jpeg:https://cmde.org/wp-content/uploads/2025/01/strive.jpg
ORGANIZER;CN="CMDE":MAILTO:info@cmde.org
END:VEVENT
BEGIN:VEVENT
DTSTART;TZID=America/New_York:20261215T130000
DTEND;TZID=America/New_York:20261215T150000
DTSTAMP:20260422T060129
CREATED:20240510T220333Z
LAST-MODIFIED:20240510T220424Z
UID:10018561-1797339600-1797346800@cmde.org
SUMMARY:Call Us Clowns
DESCRIPTION:Call Us Clowns are an award-winning troupe of Caring/Therapeutic clowns who volunteer their time and talent. They perform as individuals and in show groups\, assuring a high level of quality through professional training\, rehearsals\, and continuing clown education. \nContact: info@CallUsClowns.org
URL:https://cmde.org/event/call-us-clowns-2/2026-12-15/
LOCATION:CMDE\, 84 Euclid Ave\, Hackensack\, 07601\, United States
CATEGORIES:Guest Classes
ATTACH;FMTTYPE=image/jpeg:https://cmde.org/wp-content/uploads/2024/05/Call-us-Clowns-caring.jpg
END:VEVENT
BEGIN:VEVENT
DTSTART;TZID=America/New_York:20261218T180000
DTEND;TZID=America/New_York:20261218T193000
DTSTAMP:20260422T060129
CREATED:20260107T175714Z
LAST-MODIFIED:20260107T175714Z
UID:10035263-1797616800-1797622200@cmde.org
SUMMARY:Line Dance Party!
DESCRIPTION:Instructor: Sasha
URL:https://cmde.org/event/line-dance-party-3/2026-12-18/
LOCATION:CMDE\, 84 Euclid Ave\, Hackensack\, 07601\, United States
CATEGORIES:CMDE in person class
ORGANIZER;CN="CMDE":MAILTO:info@cmde.org
END:VEVENT
END:VCALENDAR