BEGIN:VCALENDAR
VERSION:2.0
PRODID:-//CMDE - ECPv6.15.20//NONSGML v1.0//EN
CALSCALE:GREGORIAN
METHOD:PUBLISH
X-WR-CALNAME:CMDE
X-ORIGINAL-URL:https://cmde.org
X-WR-CALDESC:Events for CMDE
REFRESH-INTERVAL;VALUE=DURATION:PT1H
X-Robots-Tag:noindex
X-PUBLISHED-TTL:PT1H
BEGIN:VTIMEZONE
TZID:America/New_York
BEGIN:DAYLIGHT
TZOFFSETFROM:-0500
TZOFFSETTO:-0400
TZNAME:EDT
DTSTART:20250309T070000
END:DAYLIGHT
BEGIN:STANDARD
TZOFFSETFROM:-0400
TZOFFSETTO:-0500
TZNAME:EST
DTSTART:20251102T060000
END:STANDARD
BEGIN:DAYLIGHT
TZOFFSETFROM:-0500
TZOFFSETTO:-0400
TZNAME:EDT
DTSTART:20260308T070000
END:DAYLIGHT
BEGIN:STANDARD
TZOFFSETFROM:-0400
TZOFFSETTO:-0500
TZNAME:EST
DTSTART:20261101T060000
END:STANDARD
BEGIN:DAYLIGHT
TZOFFSETFROM:-0500
TZOFFSETTO:-0400
TZNAME:EDT
DTSTART:20270314T070000
END:DAYLIGHT
BEGIN:STANDARD
TZOFFSETFROM:-0400
TZOFFSETTO:-0500
TZNAME:EST
DTSTART:20271107T060000
END:STANDARD
END:VTIMEZONE
BEGIN:VEVENT
DTSTART;TZID=America/New_York:20260425T100000
DTEND;TZID=America/New_York:20260425T111500
DTSTAMP:20260422T193523
CREATED:20250527T150350Z
LAST-MODIFIED:20250913T181313Z
UID:10022792-1777111200-1777115700@cmde.org
SUMMARY:Women’s Exercise & Dance
DESCRIPTION:With Lisa Skates lisa@simplysocialdancing.com 201-694-7087.\n \nThis is an exercise & dance  class for women.\nThe level is beginner to intermediate.\nLearn shoulder rolls\, shimmies\, arm stylings\, balance\, how to turn and lots of fun dance steps to try. \nThen we will work out together\, strengthening and stretching.  A combination of Pilates\, Yoga and dance exercises. \n 
URL:https://cmde.org/event/womens-work-out-2-2/2026-04-25/
LOCATION:CMDE\, 84 Euclid Ave\, Hackensack\, 07601\, United States
CATEGORIES:Guest Classes
ATTACH;FMTTYPE=image/webp:https://cmde.org/wp-content/uploads/2025/01/Women-Excercise-with-Lisa.webp
ORGANIZER;CN="CMDE":MAILTO:info@cmde.org
END:VEVENT
BEGIN:VEVENT
DTSTART;TZID=America/New_York:20260425T170000
DTEND;TZID=America/New_York:20260425T213000
DTSTAMP:20260422T193523
CREATED:20250527T154633Z
LAST-MODIFIED:20250527T154634Z
UID:10027070-1777136400-1777152600@cmde.org
SUMMARY:Sahaja Yoga Meditation
DESCRIPTION:[vc_row][vc_column][vc_column_text]We can uncover our full potential when we are at peace within. Discover Sahaja Yoga Meditation\, an ancient technique updated for today’s speedy and restless world. \nEvery session includes a guided meditation to awaken and activate the subtle\, healing energy which exists within all of us. There is no charge for these classes\, as we cannot pay for the awakening of our own inner energy\, or our own self-knowledge. \nFREE Walk-ins Allowed without Registration \nRegistration is recommended\, walk-ins welcome – space permitting.[/vc_column_text][vc_btn title=”MEET UP REGISTRATION” style=”flat” color=”turquoise” link=”url:https%3A%2F%2Fwww.meetup.com%2FSahaja-yoga-meditation-at-hackensack%2Fhttps%3A%2F%2Fwww.meetup.com%2FSahaja-yoga-meditation-at-hackensack%2F|title:REGISTRATION%20LINK”][/vc_column][/vc_row]
URL:https://cmde.org/event/sahaja-yoga-meditation-2/2026-04-25/
LOCATION:CMDE\, 84 Euclid Ave\, Hackensack\, 07601\, United States
CATEGORIES:Guest Classes
ATTACH;FMTTYPE=image/png:https://cmde.org/wp-content/uploads/2024/02/image.png
ORGANIZER;CN="Ayush Jain":MAILTO:sy.ayush@gmail.com
END:VEVENT
END:VCALENDAR