BEGIN:VCALENDAR
VERSION:2.0
PRODID:-//CMDE - ECPv6.15.20//NONSGML v1.0//EN
CALSCALE:GREGORIAN
METHOD:PUBLISH
X-WR-CALNAME:CMDE
X-ORIGINAL-URL:https://cmde.org
X-WR-CALDESC:Events for CMDE
REFRESH-INTERVAL;VALUE=DURATION:PT1H
X-Robots-Tag:noindex
X-PUBLISHED-TTL:PT1H
BEGIN:VTIMEZONE
TZID:America/New_York
BEGIN:DAYLIGHT
TZOFFSETFROM:-0500
TZOFFSETTO:-0400
TZNAME:EDT
DTSTART:20250309T070000
END:DAYLIGHT
BEGIN:STANDARD
TZOFFSETFROM:-0400
TZOFFSETTO:-0500
TZNAME:EST
DTSTART:20251102T060000
END:STANDARD
BEGIN:DAYLIGHT
TZOFFSETFROM:-0500
TZOFFSETTO:-0400
TZNAME:EDT
DTSTART:20260308T070000
END:DAYLIGHT
BEGIN:STANDARD
TZOFFSETFROM:-0400
TZOFFSETTO:-0500
TZNAME:EST
DTSTART:20261101T060000
END:STANDARD
BEGIN:DAYLIGHT
TZOFFSETFROM:-0500
TZOFFSETTO:-0400
TZNAME:EDT
DTSTART:20270314T070000
END:DAYLIGHT
BEGIN:STANDARD
TZOFFSETFROM:-0400
TZOFFSETTO:-0500
TZNAME:EST
DTSTART:20271107T060000
END:STANDARD
END:VTIMEZONE
BEGIN:VEVENT
DTSTART;TZID=America/New_York:20260425T100000
DTEND;TZID=America/New_York:20260425T230000
DTSTAMP:20260419T195644
CREATED:20250913T164106Z
LAST-MODIFIED:20260330T005257Z
UID:10033148-1777111200-1777158000@cmde.org
SUMMARY:Dance Fusion Lab
DESCRIPTION:[vc_row][vc_column][vc_column_text]Instructor: Lateefah \nTeens – Adults\nAny skill levels\nIn person and on zoom \nThe dance fusion lab class is basic technique meets creative dance combinations that fuses Modern\, Jazz\, and a touch of sass![/vc_column_text][vc_btn title=”REGISTER” style=”flat” shape=”square” color=”turquoise” link=”url:%2Fregistration%2F”][/vc_column][/vc_row]
URL:https://cmde.org/event/dance-fusion-lab/2026-04-25/
LOCATION:CMDE\, 84 Euclid Ave\, Hackensack\, 07601\, United States
CATEGORIES:CMDE in person class
ORGANIZER;CN="CMDE":MAILTO:info@cmde.org
END:VEVENT
BEGIN:VEVENT
DTSTART;TZID=America/New_York:20260425T110000
DTEND;TZID=America/New_York:20260425T115000
DTSTAMP:20260419T195644
CREATED:20251105T155516Z
LAST-MODIFIED:20260330T005404Z
UID:10033409-1777114800-1777117800@cmde.org
SUMMARY:MEDC Moving Modern
DESCRIPTION:[vc_row][vc_column][vc_column_text]Instructor: Allie Brown\nIn Person and zoom.\nBeginner\, Adults. \nFall in love with Modern Dance! This class is especially beginner friendly\, breaking down the fundamentals of Modern Dance in a fun and inclusive way!\nNo previous dance experience required!\n[/vc_column_text][vc_btn title=”Register” shape=”square” color=”turquoise” link=”url:%2Fregistration%2F|title:REGISTRATION%20LINK%20″][/vc_column][/vc_row]
URL:https://cmde.org/event/moving-modern/2026-04-25/
LOCATION:CMDE\, 84 Euclid Ave\, Hackensack\, 07601\, United States
CATEGORIES:CMDE in person class
ORGANIZER;CN="CMDE":MAILTO:info@cmde.org
END:VEVENT
BEGIN:VEVENT
DTSTART;TZID=America/New_York:20260425T120000
DTEND;TZID=America/New_York:20260425T132000
DTSTAMP:20260419T195644
CREATED:20250913T165016Z
LAST-MODIFIED:20260330T005540Z
UID:10033671-1777118400-1777123200@cmde.org
SUMMARY:Modern Dance
DESCRIPTION:[vc_row][vc_column][vc_column_text]Instructor: Elissa \nAdults – Seniors \nJoin us for an invigorating and expressive journey into the world of modern dance! This class is designed for adults of all levels\, from beginners eager to explore new movements to experienced dancers looking to refine their skills.[/vc_column_text][vc_btn title=”REGISTER” style=”flat” shape=”square” color=”turquoise”][/vc_column][/vc_row]
URL:https://cmde.org/event/modern-dance-2/2026-04-25/
LOCATION:CMDE\, 84 Euclid Ave\, Hackensack\, 07601\, United States
CATEGORIES:CMDE in person class
ATTACH;FMTTYPE=image/jpeg:https://cmde.org/wp-content/uploads/2024/09/modern-dance-with-Elissa.jpg
ORGANIZER;CN="CMDE":MAILTO:info@cmde.org
END:VEVENT
BEGIN:VEVENT
DTSTART;TZID=America/New_York:20260426T140000
DTEND;TZID=America/New_York:20260426T150000
DTSTAMP:20260419T195644
CREATED:20250913T182738Z
LAST-MODIFIED:20260330T005705Z
UID:10034193-1777212000-1777215600@cmde.org
SUMMARY:Multi-Generational African Dance
DESCRIPTION:[vc_row][vc_column][vc_column_text]Instructor: Yahaya \nAll Ages*\nIn person & Zoom \nCelebrate movement\, music\, and community in this joyful African Dance class designed for all ages! Families and individuals of every generation are invited to dance together\, learning traditional African steps\, rhythms\, and cultural stories. This upbeat class builds strength\, coordination\, and confidence while fostering connection between participants. Whether you come with kids\, parents\, grandparents\, or on your own\, you’ll leave energized\, smiling\, and inspired by the power of dance across generations. \n*Kids under 8 yrs may participate with a grown-up[/vc_column_text][vc_btn title=”Register” style=”flat” shape=”square” color=”turquoise” link=”url:%2Fregistration%2F”][/vc_column][/vc_row]
URL:https://cmde.org/event/multi-generational-african-dance/2026-04-26/
LOCATION:CMDE\, 84 Euclid Ave\, Hackensack\, 07601\, United States
CATEGORIES:CMDE in person class
ATTACH;FMTTYPE=image/jpeg:https://cmde.org/wp-content/uploads/2024/01/Dancing-Stories-LP.jpg
ORGANIZER;CN="CMDE":MAILTO:info@cmde.org
END:VEVENT
BEGIN:VEVENT
DTSTART;TZID=America/New_York:20260426T150000
DTEND;TZID=America/New_York:20260426T153000
DTSTAMP:20260419T195644
CREATED:20250913T183242Z
LAST-MODIFIED:20260330T005804Z
UID:10034454-1777215600-1777217400@cmde.org
SUMMARY:African Drumming
DESCRIPTION:Instructor: Yahaya \n In person & Zoom \nExperience the power and rhythm of traditional African drumming in this energizing 30-minute class with master drummer Yahaya. Learn foundational techniques\, polyrhythms\, and cultural rhythms while building coordination\, focus\, and musical connection. Open to all levels\, this class offers a dynamic and uplifting way to engage with African music\, movement\, and community. Perfect as a stand-alone session or as a complement to dance training.
URL:https://cmde.org/event/drumming-3/2026-04-26/
LOCATION:CMDE\, 84 Euclid Ave\, Hackensack\, 07601\, United States
CATEGORIES:CMDE in person class
ATTACH;FMTTYPE=image/jpeg:https://cmde.org/wp-content/uploads/2025/09/drumming.jpg
ORGANIZER;CN="CMDE":MAILTO:info@cmde.org
END:VEVENT
BEGIN:VEVENT
DTSTART;TZID=America/New_York:20260505T100000
DTEND;TZID=America/New_York:20260505T110000
DTSTAMP:20260419T195644
CREATED:20260107T174153Z
LAST-MODIFIED:20260107T174218Z
UID:10034710-1777975200-1777978800@cmde.org
SUMMARY:Strive
DESCRIPTION:Moving Experience for Adults with Disabilities\nInstructors: Silinea and Allie\nIn person and ZOOM \nWelcome to our Moving Experience dance class\, specifically designed for adults with disabilities. This class offers a safe and inclusive space where individuals of all abilities can explore the joy of movement\, express themselves creatively\, and experience the transformative power of dance. \nIn our Moving Experience class\, we believe that dance is a universal language that knows no boundaries. Our experienced instructors are trained in adaptive dance techniques and have a deep understanding of the diverse needs and abilities of individuals with disabilities. We strive to create an environment that promotes confidence\, self-expression\, and personal growth for each participant.
URL:https://cmde.org/event/strive/2026-05-05/
LOCATION:CMDE\, 84 Euclid Ave\, Hackensack\, 07601\, United States
CATEGORIES:CMDE in person class
ATTACH;FMTTYPE=image/jpeg:https://cmde.org/wp-content/uploads/2025/01/strive.jpg
ORGANIZER;CN="CMDE":MAILTO:info@cmde.org
END:VEVENT
BEGIN:VEVENT
DTSTART;TZID=America/New_York:20260515T180000
DTEND;TZID=America/New_York:20260515T193000
DTSTAMP:20260419T195644
CREATED:20260107T175714Z
LAST-MODIFIED:20260107T175714Z
UID:10035256-1778868000-1778873400@cmde.org
SUMMARY:Line Dance Party!
DESCRIPTION:Instructor: Sasha
URL:https://cmde.org/event/line-dance-party-3/2026-05-15/
LOCATION:CMDE\, 84 Euclid Ave\, Hackensack\, 07601\, United States
CATEGORIES:CMDE in person class
ORGANIZER;CN="CMDE":MAILTO:info@cmde.org
END:VEVENT
END:VCALENDAR