BEGIN:VCALENDAR
VERSION:2.0
PRODID:-//CMDE - ECPv6.15.20//NONSGML v1.0//EN
CALSCALE:GREGORIAN
METHOD:PUBLISH
X-WR-CALNAME:CMDE
X-ORIGINAL-URL:https://cmde.org
X-WR-CALDESC:Events for CMDE
REFRESH-INTERVAL;VALUE=DURATION:PT1H
X-Robots-Tag:noindex
X-PUBLISHED-TTL:PT1H
BEGIN:VTIMEZONE
TZID:America/New_York
BEGIN:DAYLIGHT
TZOFFSETFROM:-0500
TZOFFSETTO:-0400
TZNAME:EDT
DTSTART:20250309T070000
END:DAYLIGHT
BEGIN:STANDARD
TZOFFSETFROM:-0400
TZOFFSETTO:-0500
TZNAME:EST
DTSTART:20251102T060000
END:STANDARD
BEGIN:DAYLIGHT
TZOFFSETFROM:-0500
TZOFFSETTO:-0400
TZNAME:EDT
DTSTART:20260308T070000
END:DAYLIGHT
BEGIN:STANDARD
TZOFFSETFROM:-0400
TZOFFSETTO:-0500
TZNAME:EST
DTSTART:20261101T060000
END:STANDARD
BEGIN:DAYLIGHT
TZOFFSETFROM:-0500
TZOFFSETTO:-0400
TZNAME:EDT
DTSTART:20270314T070000
END:DAYLIGHT
BEGIN:STANDARD
TZOFFSETFROM:-0400
TZOFFSETTO:-0500
TZNAME:EST
DTSTART:20271107T060000
END:STANDARD
END:VTIMEZONE
BEGIN:VEVENT
DTSTART;TZID=America/New_York:20260420T093000
DTEND;TZID=America/New_York:20260420T110000
DTSTAMP:20260419T191028
CREATED:20250815T181910Z
LAST-MODIFIED:20260105T191823Z
UID:10029758-1776677400-1776682800@cmde.org
SUMMARY:Dancing Work Out
DESCRIPTION:For adults and seniors. \nInstructor: Claire Porter \nWelcome to our inclusive Dancing Work Out for adults and seniors! Get ready to experience the joy of movement and the numerous health benefits that dancing brings. This class is specifically designed to cater to adults and seniors of all fitness levels\, providing a safe and enjoyable environment for everyone. \nBeyond the physical benefits\, dancing is a fantastic way to enhance mental well-being and social interaction. The music\, rhythm\, and movements will uplift your spirits\, reduce stress\, and boost your mood. You’ll have the opportunity to connect with like-minded individuals in a welcoming and supportive atmosphere\, fostering new friendships and a sense of community. \nJoin our Dancing Work Out class and enjoy the following benefits: \n\nLow-Impact Fitness: Engage in dance routines that are gentle on joints\, promoting mobility\, and overall well-being.\nCardiovascular Health: Increase your heart rate\, improve blood circulation\, and enhance cardiovascular endurance through rhythmic movements.\nBalance and Coordination: Enhance your balance\, coordination\, and agility through carefully choreographed dance sequences.\nFlexibility and Range of Motion: Improve joint mobility and flexibility as you gently stretch and move to the music.\nCognitive Stimulation: Dancing engages both the body and mind\, stimulating memory\, focus\, and mental agility.\nSocial Connection: Interact with fellow participants\, share the joy of dance\, and build a supportive community.\n\nNo previous dance experience is required to join our Dancing Workout class. \nCome and join us for a delightful Dancing Workout experience where you can enjoy the benefits of dance while having fun\, staying fit\, and connecting with others in a warm and welcoming environment. Let the music move you and embrace the joy of dance at any age!
URL:https://cmde.org/event/dancing-work-out/2026-04-20/
LOCATION:CMDE\, 84 Euclid Ave\, Hackensack\, 07601\, United States
CATEGORIES:CMDE in person class
ATTACH;FMTTYPE=image/jpeg:https://cmde.org/wp-content/uploads/2023/06/Dancing-Work-Out.jpg
ORGANIZER;CN="CMDE":MAILTO:info@cmde.org
END:VEVENT
END:VCALENDAR