BEGIN:VCALENDAR
VERSION:2.0
PRODID:-//CMDE - ECPv6.15.20//NONSGML v1.0//EN
CALSCALE:GREGORIAN
METHOD:PUBLISH
X-WR-CALNAME:CMDE
X-ORIGINAL-URL:https://cmde.org
X-WR-CALDESC:Events for CMDE
REFRESH-INTERVAL;VALUE=DURATION:PT1H
X-Robots-Tag:noindex
X-PUBLISHED-TTL:PT1H
BEGIN:VTIMEZONE
TZID:America/New_York
BEGIN:DAYLIGHT
TZOFFSETFROM:-0500
TZOFFSETTO:-0400
TZNAME:EDT
DTSTART:20250309T070000
END:DAYLIGHT
BEGIN:STANDARD
TZOFFSETFROM:-0400
TZOFFSETTO:-0500
TZNAME:EST
DTSTART:20251102T060000
END:STANDARD
BEGIN:DAYLIGHT
TZOFFSETFROM:-0500
TZOFFSETTO:-0400
TZNAME:EDT
DTSTART:20260308T070000
END:DAYLIGHT
BEGIN:STANDARD
TZOFFSETFROM:-0400
TZOFFSETTO:-0500
TZNAME:EST
DTSTART:20261101T060000
END:STANDARD
BEGIN:DAYLIGHT
TZOFFSETFROM:-0500
TZOFFSETTO:-0400
TZNAME:EDT
DTSTART:20270314T070000
END:DAYLIGHT
BEGIN:STANDARD
TZOFFSETFROM:-0400
TZOFFSETTO:-0500
TZNAME:EST
DTSTART:20271107T060000
END:STANDARD
END:VTIMEZONE
BEGIN:VEVENT
DTSTART;TZID=America/New_York:20260530T120000
DTEND;TZID=America/New_York:20260530T150000
DTSTAMP:20260420T034931
CREATED:20260410T135621Z
LAST-MODIFIED:20260410T135621Z
UID:10036349-1780142400-1780153200@cmde.org
SUMMARY:The 6th Annual Montclair Disability Pride Parade & Inclusion Fair
DESCRIPTION:The 6th Annual Montclair Disability Pride Parade & Inclusion Fair is scheduled for May 30\, 2026\, focused on embracing neurodiversity. A free fun family event filled with performances\, activities and resources!
URL:https://cmde.org/event/the-6th-annual-montclair-disability-pride-parade-inclusion-fair/
LOCATION:NJ
CATEGORIES:Special events
ATTACH;FMTTYPE=image/jpeg:https://cmde.org/wp-content/uploads/2026/04/IMG_0456.jpg
ORGANIZER;CN="CMDE":MAILTO:info@cmde.org
END:VEVENT
BEGIN:VEVENT
DTSTART;TZID=America/New_York:20260530T140000
DTEND;TZID=America/New_York:20260530T153000
DTSTAMP:20260420T034931
CREATED:20260408T012916Z
LAST-MODIFIED:20260408T013007Z
UID:10036315-1780149600-1780155000@cmde.org
SUMMARY:Choreo & Core
DESCRIPTION:[vc_section][vc_row][vc_column][vc_column_text] \nWhere Dance & Pilates Meet\nGet ready for the ultimate feel-good collab—Pilates + Jazz Dance. \nWe’ll start by sculpting\, lengthening\, and activating with Pilates\, then turn up the energy and finish with a fun\, confidence-boosting jazz combo. \nThis is your chance to move\, sweat\, and shine—all in one class. \nSpots are limited and this will fill fast—grab yours now before it’s gone![/vc_column_text][vc_btn title=”REGISTER” style=”flat” shape=”square” color=”turquoise” link=”url:https%3A%2F%2Fclients.mindbodyonline.com%2Fclassic%2Fws%3Fstudioid%3D5747443%26stype%3D-7%26sTG%3D32%26sVT%3D35%26sView%3Dday%26sLoc%3D1%26sTrn%3D3%26date%3D05%2F30%2F26|title:REGISTRATION%20LINK|target:_blank|rel:nofollow”][/vc_column][/vc_row][/vc_section]
URL:https://cmde.org/event/choreo-core/
LOCATION:CMDE\, 84 Euclid Ave\, Hackensack\, 07601\, United States
CATEGORIES:Special events
ORGANIZER;CN="CMDE":MAILTO:info@cmde.org
END:VEVENT
END:VCALENDAR