BEGIN:VCALENDAR
VERSION:2.0
PRODID:-//CMDE - ECPv6.15.20//NONSGML v1.0//EN
CALSCALE:GREGORIAN
METHOD:PUBLISH
X-WR-CALNAME:CMDE
X-ORIGINAL-URL:https://cmde.org
X-WR-CALDESC:Events for CMDE
REFRESH-INTERVAL;VALUE=DURATION:PT1H
X-Robots-Tag:noindex
X-PUBLISHED-TTL:PT1H
BEGIN:VTIMEZONE
TZID:America/New_York
BEGIN:DAYLIGHT
TZOFFSETFROM:-0500
TZOFFSETTO:-0400
TZNAME:EDT
DTSTART:20250309T070000
END:DAYLIGHT
BEGIN:STANDARD
TZOFFSETFROM:-0400
TZOFFSETTO:-0500
TZNAME:EST
DTSTART:20251102T060000
END:STANDARD
BEGIN:DAYLIGHT
TZOFFSETFROM:-0500
TZOFFSETTO:-0400
TZNAME:EDT
DTSTART:20260308T070000
END:DAYLIGHT
BEGIN:STANDARD
TZOFFSETFROM:-0400
TZOFFSETTO:-0500
TZNAME:EST
DTSTART:20261101T060000
END:STANDARD
BEGIN:DAYLIGHT
TZOFFSETFROM:-0500
TZOFFSETTO:-0400
TZNAME:EDT
DTSTART:20270314T070000
END:DAYLIGHT
BEGIN:STANDARD
TZOFFSETFROM:-0400
TZOFFSETTO:-0500
TZNAME:EST
DTSTART:20271107T060000
END:STANDARD
END:VTIMEZONE
BEGIN:VEVENT
DTSTART;TZID=America/New_York:20260420T093000
DTEND;TZID=America/New_York:20260420T110000
DTSTAMP:20260419T220201
CREATED:20250815T181910Z
LAST-MODIFIED:20260105T191823Z
UID:10029758-1776677400-1776682800@cmde.org
SUMMARY:Dancing Work Out
DESCRIPTION:For adults and seniors. \nInstructor: Claire Porter \nWelcome to our inclusive Dancing Work Out for adults and seniors! Get ready to experience the joy of movement and the numerous health benefits that dancing brings. This class is specifically designed to cater to adults and seniors of all fitness levels\, providing a safe and enjoyable environment for everyone. \nBeyond the physical benefits\, dancing is a fantastic way to enhance mental well-being and social interaction. The music\, rhythm\, and movements will uplift your spirits\, reduce stress\, and boost your mood. You’ll have the opportunity to connect with like-minded individuals in a welcoming and supportive atmosphere\, fostering new friendships and a sense of community. \nJoin our Dancing Work Out class and enjoy the following benefits: \n\nLow-Impact Fitness: Engage in dance routines that are gentle on joints\, promoting mobility\, and overall well-being.\nCardiovascular Health: Increase your heart rate\, improve blood circulation\, and enhance cardiovascular endurance through rhythmic movements.\nBalance and Coordination: Enhance your balance\, coordination\, and agility through carefully choreographed dance sequences.\nFlexibility and Range of Motion: Improve joint mobility and flexibility as you gently stretch and move to the music.\nCognitive Stimulation: Dancing engages both the body and mind\, stimulating memory\, focus\, and mental agility.\nSocial Connection: Interact with fellow participants\, share the joy of dance\, and build a supportive community.\n\nNo previous dance experience is required to join our Dancing Workout class. \nCome and join us for a delightful Dancing Workout experience where you can enjoy the benefits of dance while having fun\, staying fit\, and connecting with others in a warm and welcoming environment. Let the music move you and embrace the joy of dance at any age!
URL:https://cmde.org/event/dancing-work-out/2026-04-20/
LOCATION:CMDE\, 84 Euclid Ave\, Hackensack\, 07601\, United States
CATEGORIES:CMDE in person class
ATTACH;FMTTYPE=image/jpeg:https://cmde.org/wp-content/uploads/2023/06/Dancing-Work-Out.jpg
ORGANIZER;CN="CMDE":MAILTO:info@cmde.org
END:VEVENT
BEGIN:VEVENT
DTSTART;TZID=America/New_York:20260420T110000
DTEND;TZID=America/New_York:20260420T140000
DTSTAMP:20260419T220201
CREATED:20240510T215440Z
LAST-MODIFIED:20240510T221122Z
UID:10018370-1776682800-1776693600@cmde.org
SUMMARY:Call Us Clowns
DESCRIPTION:Call Us Clowns are an award-winning troupe of Caring/Therapeutic clowns who volunteer their time and talent.  They perform as individuals and in show groups\, assuring a high level of quality through professional training\, rehearsals\, and continuing clown education. \nContact: info@CallUsClowns.org
URL:https://cmde.org/event/call-us-clowns/2026-04-20/
LOCATION:CMDE\, 84 Euclid Ave\, Hackensack\, 07601\, United States
CATEGORIES:Guest Classes
ATTACH;FMTTYPE=image/jpeg:https://cmde.org/wp-content/uploads/2024/05/Call-us-Clowns-caring.jpg
END:VEVENT
BEGIN:VEVENT
DTSTART;TZID=America/New_York:20260420T173000
DTEND;TZID=America/New_York:20260420T213000
DTSTAMP:20260419T220201
CREATED:20250815T175943Z
LAST-MODIFIED:20250815T175944Z
UID:10028241-1776706200-1776720600@cmde.org
SUMMARY:Simply Social Dance
DESCRIPTION:Students are taught specific dance steps\, and have a chance to practice these steps with other students. \nIntermediate students inspire new students and helps them to learn more quickly. \nStudents learn the fundamentals of a dance: step patterns\, rhythm\, lead & follow\, and good technique.
URL:https://cmde.org/event/simply-social-dance-2/2026-04-20/
LOCATION:CMDE\, 84 Euclid Ave\, Hackensack\, 07601\, United States
CATEGORIES:Guest Classes
ATTACH;FMTTYPE=image/webp:https://cmde.org/wp-content/uploads/2023/06/rsw_400cg_true.webp
ORGANIZER;CN="Lisa Skates":MAILTO:info@simplysocialdancing.com
END:VEVENT
BEGIN:VEVENT
DTSTART;TZID=America/New_York:20260420T180000
DTEND;TZID=America/New_York:20260420T204500
DTSTAMP:20260419T220201
CREATED:20250815T180238Z
LAST-MODIFIED:20250815T180239Z
UID:10026209-1776708000-1776717900@cmde.org
SUMMARY:Salsa! with Pina
DESCRIPTION:Please contact:\n201-707-0999\ngloriasparrots@gmail.com
URL:https://cmde.org/event/salsa-2-2-2/2026-04-20/
LOCATION:CMDE\, 84 Euclid Ave\, Hackensack\, 07601\, United States
CATEGORIES:Guest Classes
END:VEVENT
END:VCALENDAR